BEGIN:VCALENDAR
VERSION:2.0
PRODID:-//Kulturparken Småland - ECPv6.15.17.1//NONSGML v1.0//EN
CALSCALE:GREGORIAN
METHOD:PUBLISH
X-ORIGINAL-URL:https://www.kulturparkensmaland.se
X-WR-CALDESC:Händelser för Kulturparken Småland
REFRESH-INTERVAL;VALUE=DURATION:PT1H
X-Robots-Tag:noindex
X-PUBLISHED-TTL:PT1H
BEGIN:VTIMEZONE
TZID:Europe/Stockholm
BEGIN:DAYLIGHT
TZOFFSETFROM:+0100
TZOFFSETTO:+0200
TZNAME:CEST
DTSTART:20250330T010000
END:DAYLIGHT
BEGIN:STANDARD
TZOFFSETFROM:+0200
TZOFFSETTO:+0100
TZNAME:CET
DTSTART:20251026T010000
END:STANDARD
BEGIN:DAYLIGHT
TZOFFSETFROM:+0100
TZOFFSETTO:+0200
TZNAME:CEST
DTSTART:20260329T010000
END:DAYLIGHT
BEGIN:STANDARD
TZOFFSETFROM:+0200
TZOFFSETTO:+0100
TZNAME:CET
DTSTART:20261025T010000
END:STANDARD
BEGIN:DAYLIGHT
TZOFFSETFROM:+0100
TZOFFSETTO:+0200
TZNAME:CEST
DTSTART:20270328T010000
END:DAYLIGHT
BEGIN:STANDARD
TZOFFSETFROM:+0200
TZOFFSETTO:+0100
TZNAME:CET
DTSTART:20271031T010000
END:STANDARD
END:VTIMEZONE
BEGIN:VEVENT
DTSTART;TZID=Europe/Stockholm:20260305T180000
DTEND;TZID=Europe/Stockholm:20260305T200000
DTSTAMP:20260419T184507
CREATED:20260129T090014Z
LAST-MODIFIED:20260126T091511Z
UID:10000277-1772733600-1772740800@www.kulturparkensmaland.se
SUMMARY:I museets foajé – kaffetema
DESCRIPTION:Välkommen till en kreativ stund i museets foajé. Vi skapar och samtalar utifrån ett kulturhistoriskt tema\, denna gång genom att grotta ner oss i kaffets kulturhistoria och måla med kaffespill. Kaffe\, te och en kvällsmacka ingår i priset. Inga förkunskaper krävs. \nKöp biljett
URL:https://www.kulturparkensmaland.se/event/i-museets-foaje-kaffetema/
LOCATION:Smålands museum\, Södra Järnvägsgatan 2\, Växjö\, 35229\, Sverige
ATTACH;FMTTYPE=image/jpeg:https://www.kulturparkensmaland.se/wp-content/uploads/kaffetema_FB.jpg
END:VEVENT
BEGIN:VEVENT
DTSTART;TZID=Europe/Stockholm:20260308T160000
DTEND;TZID=Europe/Stockholm:20260308T160000
DTSTAMP:20260419T184507
CREATED:20260129T090043Z
LAST-MODIFIED:20260126T134347Z
UID:10000294-1772985600-1772985600@www.kulturparkensmaland.se
SUMMARY:Elin Wägner veckan – Kvinnorna som kom tillbaka
DESCRIPTION:Historikern Marie Bennedahl Weber berättar om svenska kvinnor som emigrerade till USA i början av 1900-talet – och senare återvände hem. Genom unika intervjuer ur Svenska Emigrantinstitutets arkiv i Växjö möter vi 33 kvinnors livsöden genom farliga överfarter och på resor genom okända landskap. Trots olika erfarenheter förenades de av samma känsla – en stark längtan tillbaka till det Amerika som en gång gav dem frihet\, och en känsla av att inte längre passa in i det gamla hemlandet. \nArrangemang av Kulturparken Småland\, Växjö Kommun och Elin Wägner sällskapet. \nFoto: The New York Public Library Digital Collections.
URL:https://www.kulturparkensmaland.se/event/elin-wagner-veckan-kvinnorna-som-kom-tillbaka/
LOCATION:Utvandrarnas hus\, Vilhelm Mobergs gata 4\, Växjö\, 35229\, Sverige
ATTACH;FMTTYPE=image/jpeg:https://www.kulturparkensmaland.se/wp-content/uploads/kvinnorna_FB.jpg
END:VEVENT
BEGIN:VEVENT
DTSTART;TZID=Europe/Stockholm:20260311T180000
DTEND;TZID=Europe/Stockholm:20260311T180000
DTSTAMP:20260419T184507
CREATED:20260129T090027Z
LAST-MODIFIED:20260119T153032Z
UID:10000293-1773252000-1773252000@www.kulturparkensmaland.se
SUMMARY:Tema ”Växjö stad” – kvällsöppet på Kulturarvscentrum
DESCRIPTION:Välkommen till Kulturarvscentrum Småland där vi denna afton plockar fram foton\, filmer och annat material från Växjö stads historia. \nFoto: Hyltén-Cavallius\, Nils. Växjö station ca 1965.
URL:https://www.kulturparkensmaland.se/event/tema-vaxjo-stad-kvallsoppet-pa-kulturarvscentrum/
LOCATION:Kulturarvscentrum Småland\, Sandvägen 15\, Växjö\, 35245\, Sverige
ATTACH;FMTTYPE=image/jpeg:https://www.kulturparkensmaland.se/wp-content/uploads/kvallsoppet_FB_hylten_Cavallius_nils_1965.jpg
END:VEVENT
BEGIN:VEVENT
DTSTART;TZID=Europe/Stockholm:20260312T130000
DTEND;TZID=Europe/Stockholm:20260312T133000
DTSTAMP:20260419T184507
CREATED:20260129T090006Z
LAST-MODIFIED:20260203T101302Z
UID:10000292-1773320400-1773322200@www.kulturparkensmaland.se
SUMMARY:Öppen visning av ”Brott\, bödlar och blåljus” med Håkan Nordmark
DESCRIPTION:Vad händer när lagen ska skipas – och när den bryts? Under denna visning av utställningen Brott\, bödlar & blåljus får du komma närmare brottsligheten genom århundradena. Från medeltidens rättssalar till polisens moderna blåljus. Guidad tur med historiker Håkan Nordmark. \nIngår i biljettentrén. Pågår cirka 30 minuter.
URL:https://www.kulturparkensmaland.se/event/oppen-visning-av-brott-bodlar-blaljus-med-hakan-nordmark-2/
LOCATION:Smålands museum\, Södra Järnvägsgatan 2\, Växjö\, 35229\, Sverige
ATTACH;FMTTYPE=image/jpeg:https://www.kulturparkensmaland.se/wp-content/uploads/oppen_visning_BBB_FB.jpg
END:VEVENT
BEGIN:VEVENT
DTSTART;TZID=Europe/Stockholm:20260318T180000
DTEND;TZID=Europe/Stockholm:20260318T180000
DTSTAMP:20260419T184507
CREATED:20260129T090049Z
LAST-MODIFIED:20260310T073653Z
UID:10000291-1773856800-1773856800@www.kulturparkensmaland.se
SUMMARY:Glittrande glas på Kronobergs slott
DESCRIPTION:Föremålen från Kronobergs slottsruin kan berätta om människor som levt och arbetat där\, men också om sin samtid. Denna afton kommer arkeolog Åsa Alering och glasantikvarie Björn Arfvidsson att tala om glasets historia i renässansens Sverige. De visar glasföremål som hittats på Kronobergs slottsruin\, berättar om glaset som status- och vardagsföremål\, om handelskontakter och inte minst om var slottets glas kan ha tillverkats. \nKöp biljett
URL:https://www.kulturparkensmaland.se/event/glittrande-glas-pa-kronobergs-slott/
LOCATION:Smålands museum\, Södra Järnvägsgatan 2\, Växjö\, 35229\, Sverige
ATTACH;FMTTYPE=image/jpeg:https://www.kulturparkensmaland.se/wp-content/uploads/glittrande_glas_FB.jpg
END:VEVENT
BEGIN:VEVENT
DTSTART;TZID=Europe/Stockholm:20260325T180000
DTEND;TZID=Europe/Stockholm:20260325T190000
DTSTAMP:20260419T184507
CREATED:20260129T090000Z
LAST-MODIFIED:20260325T143357Z
UID:10000290-1774461600-1774465200@www.kulturparkensmaland.se
SUMMARY:Boksläpp om sporthistoria i Kronoberg
DESCRIPTION:Kronobergs hembygdsförbund lanserar ny bok om sporthistoria i Kronobergs län. Bland annat om tennisundret i Växjö\, om pingissystrarna som vann allt\, och om målvakten i Dänningelanda som stod för flera kanonräddningar när Tottenham kom på besök\, med Paul Gascoigne i spetsen. \nArrangeras av Kronobergs hembygdsförbund och Kulturparken Småland. \nFoto: Racingföraren Åsa Johansson. Smålands museums fotoarkiv/Kronobergaren.
URL:https://www.kulturparkensmaland.se/event/bokslapp-om-kronobergssportens-mirakel/
LOCATION:Smålands museum\, Södra Järnvägsgatan 2\, Växjö\, 35229\, Sverige
ATTACH;FMTTYPE=image/jpeg:https://www.kulturparkensmaland.se/wp-content/uploads/asa_johansson.jpg
END:VEVENT
BEGIN:VEVENT
DTSTART;TZID=Europe/Stockholm:20260326T180000
DTEND;TZID=Europe/Stockholm:20260326T180000
DTSTAMP:20260419T184507
CREATED:20260129T090034Z
LAST-MODIFIED:20260318T120352Z
UID:10000289-1774548000-1774548000@www.kulturparkensmaland.se
SUMMARY:Från Växjö till världen (och tillbaka igen). Reflektioner från ett forskarliv
DESCRIPTION:Gunlög Fur kom till dåvarande Högskolan i Växjö som lektor i historia 1996. Trettio år senare är hon professor\, nu verksam vid Linnéuniversitetet. Hon har varit dekan för fakulteten för konst och humaniora och varit med om att bygga forskningscentret Concurrences in Colonial and Postcolonial Studies. I sitt föredrag reflekterar hon över sin mångåriga forskning om kulturmöten\, kolonialism och urfolkshistoria och resonerar om hur just Växjö som utbildningsmiljö bidragit till att knyta samman och berika spänningen mellan det lokala och världen bortom det lokala. \nInget förköp\, biljett köps på plats. \nArrangör: Historiska föreningen i Kronoberg i samarbete med Kulturparken Småland. \nBild: Konrad Miller\, via Wikimedia Commons (Public domain)
URL:https://www.kulturparkensmaland.se/event/fran-vaxjo-till-varlden-och-tillbaka-igen-reflektioner-fran-ett-forskarliv/
LOCATION:Utvandrarnas hus\, Vilhelm Mobergs gata 4\, Växjö\, 35229\, Sverige
ATTACH;FMTTYPE=image/jpeg:https://www.kulturparkensmaland.se/wp-content/uploads/franvaxjo-scaled.jpg
END:VEVENT
BEGIN:VEVENT
DTSTART;TZID=Europe/Stockholm:20260331T192000
DTEND;TZID=Europe/Stockholm:20260331T192000
DTSTAMP:20260419T184507
CREATED:20260129T090018Z
LAST-MODIFIED:20260115T114504Z
UID:10000288-1774984800-1774984800@www.kulturparkensmaland.se
SUMMARY:Pecha Kucha
DESCRIPTION:Välkommen till en inspirerande PechaKucha-night! Den japanska snabbpresentationstekniken PechaKucha finns på över 1300 platser runt om i världen. Kom och lyssna på korta och intressanta föreläsningar om form\, design och kultur. Arrangeras av Svensk Form Småland och Kulturparken Småland.
URL:https://www.kulturparkensmaland.se/event/pecha-kucha/
LOCATION:Smålands museum\, Södra Järnvägsgatan 2\, Växjö\, 35229\, Sverige
ATTACH;FMTTYPE=image/jpeg:https://www.kulturparkensmaland.se/wp-content/uploads/PechaKucha_FB.jpg
END:VEVENT
BEGIN:VEVENT
DTSTART;TZID=Europe/Stockholm:20260401T140000
DTEND;TZID=Europe/Stockholm:20260401T140000
DTSTAMP:20260419T184507
CREATED:20260129T090004Z
LAST-MODIFIED:20260323T141128Z
UID:10000287-1775052000-1775052000@www.kulturparkensmaland.se
SUMMARY:Kaffe och konst x Tavelsamlingen
DESCRIPTION:Denna gång möts vi på Kulturarvscentrum Småland på Norremark för att titta på den unika tavelsamlingen som finns i arkivet. Visningen leds av antikvarie Anders Bengtsson. Efter visningen finns det tid för kaffe och samtal. \nKöp biljett
URL:https://www.kulturparkensmaland.se/event/kaffe-och-konst-tavelsamlingen-pa-kulturarvscentrum/
LOCATION:Kulturarvscentrum Småland\, Sandvägen 15\, Växjö\, 35245\, Sverige
ATTACH;FMTTYPE=image/jpeg:https://www.kulturparkensmaland.se/wp-content/uploads/kafffekonst_tavelsamlingen_FB.jpg
END:VEVENT
BEGIN:VEVENT
DTSTART;TZID=Europe/Stockholm:20260409T180000
DTEND;TZID=Europe/Stockholm:20260409T180000
DTSTAMP:20260419T184507
CREATED:20260129T090031Z
LAST-MODIFIED:20260324T142922Z
UID:10000286-1775757600-1775757600@www.kulturparkensmaland.se
SUMMARY:Polis förr och nu
DESCRIPTION:Hur har Polisens arbete förändrats sedan förra sekelskiftet och allmänhetens syn på Polisen och dess roll i samhället. Finns det några historiska lärdomar av Polisens arbete som är viktiga än idag även om brottsligheten ser helt annorlunda ut? \nMedverkar gör bland annat Bernt-Åke Solverius\, som byggde upp Polismuseet i Växjö\, professor Roddy Nilsson\, samt en representant från Polismyndigheten. \nFoto: Fr.v. Smålands museums samlingar\, Linneuniversitetet.
URL:https://www.kulturparkensmaland.se/event/polis-forr-och-nu/
LOCATION:Smålands museum\, Södra Järnvägsgatan 2\, Växjö\, 35229\, Sverige
ATTACH;FMTTYPE=image/jpeg:https://www.kulturparkensmaland.se/wp-content/uploads/polisen_forrochnu_1920x1080.jpg
END:VEVENT
BEGIN:VEVENT
DTSTART;VALUE=DATE:20260411
DTEND;VALUE=DATE:20260413
DTSTAMP:20260419T184507
CREATED:20260108T075118Z
LAST-MODIFIED:20260316T075948Z
UID:10000269-1775865600-1776038399@www.kulturparkensmaland.se
SUMMARY:Konferens för emigrations- och släktforskare
DESCRIPTION:Välkommen till en konferens med inspirerande föredrag och utrymme för att träffas och utbyta kunskap och erfarenheter.\n \nLördag 11 april \n9.30–10.00 Kaffe\, smörgås och registrering\n10.00–10.45 Jag har ångrat det många gånger – Kvinnors erfarenhet av svenskamerikansk migration under 1900-talet. Marie Bennedahl\, Linnéuniversitetet\n11.00–11.45 Röster ur historien och nya teknologier – AI-stödd transkribering av ljudarkiv. Khaled Matar och Kemal Cikota\, Linnéuniversitetet \nLunch på egen hand \n14.00–14.45 Emiweb – Skandinaviens största migrationsdatabas. Anna-Lena Hultman\, SwedGen\n15.00–16.00 Mingel och invigning av utställningen En glömd historia – Hoovervilles i Seattle. Ola Larsmo och Hans Wallengren berättar om sitt arbete. Obs! Även öppet för allmänheten.\n18.00–20.00 Gemensam middag på Utvandrarnas Hus \nSöndag 12 april \n10.00–10.45 Guidning av utställning Drömmen om Amerika – Det nya landet\n11.00–12.00 John Bulls barn – Om en före detta slav från Saint Barthélemy som bildade familj i Småland på 1800-talet. Håkan Nordmark\, Smålands museum \nLunch på egen hand \n13.45 Svenskamerikanska kyrkoarkiven – vad är det? Anneli Andersson\, Melleruds Museum & Släktforskningsarkiv\n15.00–15.30 Avslutning och kaffe \nKonferensen arrangeras av Svenska Emigrantinstitutet\, SwedGen\, Emiweb och Kulturparken Småland. \nAnmälan görs senast 30 mars 2026. Vi förbehåller oss rätten att ställa in arrangemanget vid för få anmälningar. \n2 dagar inklusive kaffe\, vegetarisk middag och mingel 800 kr\nKöp biljett \n2 dagar utan gemensam middag 600 kr\nKöp biljett \nFrågor: alexandra.nylen@kulturparkensmaland.se
URL:https://www.kulturparkensmaland.se/event/konferens-for-emigrations-och-slaktforskare/
LOCATION:Utvandrarnas hus\, Vilhelm Mobergs gata 4\, Växjö\, 35229\, Sverige
ATTACH;FMTTYPE=image/jpeg:https://www.kulturparkensmaland.se/wp-content/uploads/utvandrarnas_hus1.jpg
END:VEVENT
BEGIN:VEVENT
DTSTART;TZID=Europe/Stockholm:20260411T150000
DTEND;TZID=Europe/Stockholm:20260411T150000
DTSTAMP:20260419T184507
CREATED:20260129T090030Z
LAST-MODIFIED:20260324T145234Z
UID:10000285-1775919600-1775919600@www.kulturparkensmaland.se
SUMMARY:Vernissage "Hooverville – en glömd historia"
DESCRIPTION:Ola Larsmo och Hans Wallengren berättar om den nya utställningen som handlar om de nordiska immigranter som bodde i kåkstaden Hooverville i Seattle under 1930-talet. Ola Larsmo och Hans Wallengren har följt deras hårda liv och lyft fram deras erfarenheter som också är en del av vårt gemensamma arv. Under invigningen berättar de kort om utställningen. \nLäs mer om utställningen här. \nFoto: Seattle Municipal Archives
URL:https://www.kulturparkensmaland.se/event/vernissage-hooverville-en-glomd-historia/
LOCATION:Utvandrarnas hus\, Vilhelm Mobergs gata 4\, Växjö\, 35229\, Sverige
ATTACH;FMTTYPE=image/jpeg:https://www.kulturparkensmaland.se/wp-content/uploads/hooverville_1920x1080.jpg
END:VEVENT
BEGIN:VEVENT
DTSTART;TZID=Europe/Stockholm:20260415T180000
DTEND;TZID=Europe/Stockholm:20260415T180000
DTSTAMP:20260419T184507
CREATED:20260129T090013Z
LAST-MODIFIED:20260127T121022Z
UID:10000284-1776276000-1776276000@www.kulturparkensmaland.se
SUMMARY:De ur alla minnen fallna
DESCRIPTION:Ola Larsmo berättar om sin research kring svensk emigration\, med utgångspunkt i sina böcker. Föreläsningen lyfter okända livsöden och människor som förvunnit ut historieskrivningen. \nArrangör: Historiska föreningen i Kronoberg i samarbete med Kulturparken Småland. \nInget förköp. Biljett köps på plats. \nCopyright/fotograf: Christine Olsson
URL:https://www.kulturparkensmaland.se/event/de-ur-alla-minnen-fallna/
LOCATION:Utvandrarnas hus\, Vilhelm Mobergs gata 4\, Växjö\, 35229\, Sverige
ATTACH;FMTTYPE=image/jpeg:https://www.kulturparkensmaland.se/wp-content/uploads/olalarsmo_Copyright-fotograf_-Christine-Olsson_FB.jpg
END:VEVENT
BEGIN:VEVENT
DTSTART;TZID=Europe/Stockholm:20260416T180000
DTEND;TZID=Europe/Stockholm:20260416T200000
DTSTAMP:20260419T184507
CREATED:20260129T090018Z
LAST-MODIFIED:20260407T125739Z
UID:10000278-1776362400-1776369600@www.kulturparkensmaland.se
SUMMARY:I museets foajé
DESCRIPTION:Hur mycket kan du om Småland? \nI vanliga fall är ”I museets foajé” en kreativ verkstad för vuxna\, där vi skapar tillsammans och samtalar utifrån ett kulturhistoriskt tema. Denna gången så har ett Smålandsquiz smugit sig in och äntligen får du möjlighet att utmana andra i Smålandskunskap! Samla vännerna och bilda ett lag om två-fyra personer. Vi håller till i museets foajé där våra historiker och pedagoger har satt ihop och håller i ett klurigt quiz som engagerar alla sinnen. Vem blir kvällens smålandsmästare? Fina priser på temat utlovas. \nKaffe\, te och en kvällsmacka serveras under quizet\, och ingår i entrépriset. \nVid köp av biljett\, ange namn+lagnamn. Exempelvis Anna Andersson Lag blå. Begränsat antal platser\, säkra din biljett. \nKöp biljett \nFoto: Andersson\, Yngve. Orientering 1942.
URL:https://www.kulturparkensmaland.se/event/i-museets-foaje/
LOCATION:Smålands museum\, Södra Järnvägsgatan 2\, Växjö\, 35229\, Sverige
ATTACH;FMTTYPE=image/jpeg:https://www.kulturparkensmaland.se/wp-content/uploads/smalandsquiz-1-scaled.jpg
END:VEVENT
BEGIN:VEVENT
DTSTART;TZID=Europe/Stockholm:20260422T180000
DTEND;TZID=Europe/Stockholm:20260422T180000
DTSTAMP:20260419T184507
CREATED:20260129T090035Z
LAST-MODIFIED:20260330T131316Z
UID:10000283-1776880800-1776880800@www.kulturparkensmaland.se
SUMMARY:Kyrkeby bränneri gästar museet
DESCRIPTION:Jörgen Håkansson från Kyrkeby Bränneri gästar Smålands museum och berättar om det anrika bränneriets historia och om hur brännvin framställs – från potatis till färdig dryck. Med utgångspunkt i Kyrkeby får vi en inblick i ett hantverk med långa traditioner i Småland. \nDet kommer att finnas möjlighet att köpa boken ”Kyrkeby bränneri”\, skriven av Håkan Nordmark och Hasse Nilsson. Boken skildrar brännvinets historia\, med särskilt fokus på potatisbrännvinet och dess betydelse i Sverige\, utgiven av Vissefjärdas hembygdsförening. \nKöp biljett \nFoto: Vissefjärda hembygdsförening
URL:https://www.kulturparkensmaland.se/event/kyrkeby-branneri-gastar-museet/
LOCATION:Smålands museum\, Södra Järnvägsgatan 2\, Växjö\, 35229\, Sverige
ATTACH;FMTTYPE=image/jpeg:https://www.kulturparkensmaland.se/wp-content/uploads/kyrkeby_branneri_vissefjardahembygdsforening_FB.jpg
END:VEVENT
BEGIN:VEVENT
DTSTART;TZID=Europe/Stockholm:20260429T140000
DTEND;TZID=Europe/Stockholm:20260429T143000
DTSTAMP:20260419T184507
CREATED:20260129T090035Z
LAST-MODIFIED:20260408T110832Z
UID:10000282-1777471200-1777473000@www.kulturparkensmaland.se
SUMMARY:Öppen visning av ”Hooverville – en glömd historia”
DESCRIPTION:Välkommen på en guidad visning av utställningen Hooverville – en glömd historia med arkivarie Judit Söderblom. \nIngår i biljettentrén. Pågår cirka 30 minuter. \n  \nFoto: Seattle Municipal Archives
URL:https://www.kulturparkensmaland.se/event/oppen-visning-av-hooverville-en-glomd-historia/
LOCATION:Utvandrarnas hus\, Vilhelm Mobergs gata 4\, Växjö\, 35229\, Sverige
ATTACH;FMTTYPE=image/jpeg:https://www.kulturparkensmaland.se/wp-content/uploads/oppen_hoover-scaled.jpg
END:VEVENT
BEGIN:VEVENT
DTSTART;TZID=Europe/Stockholm:20260506T180000
DTEND;TZID=Europe/Stockholm:20260506T180000
DTSTAMP:20260419T184507
CREATED:20260129T090022Z
LAST-MODIFIED:20260327T053952Z
UID:10000280-1778090400-1778090400@www.kulturparkensmaland.se
SUMMARY:Hangarfartyget Kronoberg – Flygvapnet 100 år
DESCRIPTION:Följ med när byggnadsantikvarie Samuel Palmblad tar oss tillbaka till den tid då Kronoberg var en viktig knutpunkt för Flygvapnet och dess krigsorganisation – från andra världskrigets turbulenta år till kalla krigets vaksamma decennier. I år firar Flygvapnet 100 år\, och vad passar bättre än en berättarkväll på Smålands museum där historien lyfter från marken? \nKöp biljett \nFoto: Smålandsposten
URL:https://www.kulturparkensmaland.se/event/hangarfartyget-kronoberg-flygvapnet-100-ar/
LOCATION:Smålands museum\, Södra Järnvägsgatan 2\, Växjö\, 35229\, Sverige
ATTACH;FMTTYPE=image/jpeg:https://www.kulturparkensmaland.se/wp-content/uploads/hangarfartyg_smalandsposten_FB.jpg
END:VEVENT
BEGIN:VEVENT
DTSTART;TZID=Europe/Stockholm:20260513T140000
DTEND;TZID=Europe/Stockholm:20260513T143000
DTSTAMP:20260419T184507
CREATED:20260129T090028Z
LAST-MODIFIED:20260408T110747Z
UID:10000281-1778680800-1778682600@www.kulturparkensmaland.se
SUMMARY:Öppen visning av ”Hooverville – en glömd historia”
DESCRIPTION:Välkommen på en guidad visning av utställningen Hooverville – en glömd historia med arkivarie Gunnar Wennerström. \nUtställningen berättar om nordiska emigranter som levde i Seattles kåkstäder under 1930-talets ekonomiska kris – en mindre känd del av migrationshistorien. \nIngår i biljettentrén. Pågår cirka 30 minuter. \nLäs mer om utställningen här. \nFoto: Seattle Municipal Archives
URL:https://www.kulturparkensmaland.se/event/oppen-visning-hooverville-2/
LOCATION:Utvandrarnas hus\, Vilhelm Mobergs gata 4\, Växjö\, 35229\, Sverige
ATTACH;FMTTYPE=image/jpeg:https://www.kulturparkensmaland.se/wp-content/uploads/oppen_hoover-scaled.jpg
END:VEVENT
BEGIN:VEVENT
DTSTART;TZID=Europe/Stockholm:20260516T100000
DTEND;TZID=Europe/Stockholm:20260516T120000
DTSTAMP:20260419T184507
CREATED:20260129T090010Z
LAST-MODIFIED:20260326T104741Z
UID:10000279-1778925600-1778932800@www.kulturparkensmaland.se
SUMMARY:Beredskapsvandring på Kosta flygbas - Flygvapnet 100 år
DESCRIPTION:Välkomna till Flygvapnets gamla krigsflygbas i Kosta 16 maj (Obs datum). Under exkursionen berättas historien om basens tillblivelse\, utveckling och nedläggning. Ett antal stopp kommer genomföras i området där flygrelaterad verksamhet bedrivits under det kalla kriget. Guide är Samuel Palmblad\, byggnadsantikvarie. Flygvapnet firar 100 år i år och därför gör Kulturparken Småland några nedslag i Kronobergs kulturhistoria med anknytning till flyget. \nSamling 09.45 vid Lessebo station dit man tar sig själv. Där väntar guide och en abonnerad buss som tar oss vidare. Avfärd 10.00. Bussen återvänder till Lessebo station ca kl 12.00. \nBindande anmälan. Biljett inkluderar busstur och guidning. \nObs! Vi förbehåller oss rätten att göra ändringar i programmet. Exkursionen kan komma att påverkas eller ställas in till följd av exempelvis militära övningar eller andra yttre omständigheter. \nFoto: Sonja Palm. \nKöp biljett
URL:https://www.kulturparkensmaland.se/event/beredskapsvandring-kosta/
LOCATION:Kosta flygbas
ATTACH;FMTTYPE=image/jpeg:https://www.kulturparkensmaland.se/wp-content/uploads/kostaflygbas_-Foto-Sonja-Palm_FB-2.jpg
END:VEVENT
END:VCALENDAR