BEGIN:VCALENDAR
VERSION:2.0
PRODID:-//Kulturparken Småland - ECPv6.15.17.1//NONSGML v1.0//EN
CALSCALE:GREGORIAN
METHOD:PUBLISH
X-WR-CALNAME:Kulturparken Småland
X-ORIGINAL-URL:https://www.kulturparkensmaland.se
X-WR-CALDESC:Händelser för Kulturparken Småland
REFRESH-INTERVAL;VALUE=DURATION:PT1H
X-Robots-Tag:noindex
X-PUBLISHED-TTL:PT1H
BEGIN:VTIMEZONE
TZID:Europe/Stockholm
BEGIN:DAYLIGHT
TZOFFSETFROM:+0100
TZOFFSETTO:+0200
TZNAME:CEST
DTSTART:20240331T010000
END:DAYLIGHT
BEGIN:STANDARD
TZOFFSETFROM:+0200
TZOFFSETTO:+0100
TZNAME:CET
DTSTART:20241027T010000
END:STANDARD
BEGIN:DAYLIGHT
TZOFFSETFROM:+0100
TZOFFSETTO:+0200
TZNAME:CEST
DTSTART:20250330T010000
END:DAYLIGHT
BEGIN:STANDARD
TZOFFSETFROM:+0200
TZOFFSETTO:+0100
TZNAME:CET
DTSTART:20251026T010000
END:STANDARD
BEGIN:DAYLIGHT
TZOFFSETFROM:+0100
TZOFFSETTO:+0200
TZNAME:CEST
DTSTART:20260329T010000
END:DAYLIGHT
BEGIN:STANDARD
TZOFFSETFROM:+0200
TZOFFSETTO:+0100
TZNAME:CET
DTSTART:20261025T010000
END:STANDARD
END:VTIMEZONE
BEGIN:VEVENT
DTSTART;TZID=Europe/Stockholm:20250206T180000
DTEND;TZID=Europe/Stockholm:20250206T200000
DTSTAMP:20260420T145300
CREATED:20250124T101628Z
LAST-MODIFIED:20250130T134753Z
UID:10000101-1738864800-1738872000@www.kulturparkensmaland.se
SUMMARY:I museets foajé
DESCRIPTION:Välkommen till en kreativ stund i museets foajé. Ta med dig en vän eller kom som du är. Denna kväll uppmärksammar vi Byggnadsvårdsåret 2025. Vi låter oss inspireras av äldre schabloner när vi arbetar med egna tryck.  Niels Wadenbäck från Rössmåla Kulturmåleri är på plats och instruerar. \nIngen förkunskap krävs. Vi står för allt material. Det bjuds på kaffe/te och en rejäl macka. Denna gång hålls aktiviteten i museets skapande verkstad\, samling i museets foajé. \nKöp biljett
URL:https://www.kulturparkensmaland.se/event/i-museets-foaje-5/
LOCATION:Smålands museum\, Södra Järnvägsgatan 2\, Växjö\, 35229\, Sverige
ATTACH;FMTTYPE=image/jpeg:https://www.kulturparkensmaland.se/wp-content/uploads/imuseetsfoaje_schablon_1920x1080.jpg
END:VEVENT
BEGIN:VEVENT
DTSTART;TZID=Europe/Stockholm:20250212T180000
DTEND;TZID=Europe/Stockholm:20250212T190000
DTSTAMP:20260420T145300
CREATED:20250124T101516Z
LAST-MODIFIED:20250212T133717Z
UID:10000102-1739383200-1739386800@www.kulturparkensmaland.se
SUMMARY:Från trälar till tjänstefolk
DESCRIPTION:Från 1200-talet till 1800-talet utgjorde legofolk\, senare kallade tjänstefolk\, drängar och pigor\, den vanligaste arbetskraften i Sverige. Historikern Martin Andersson skildrar deras levnadsvillkor och koppling till den tidigare träldomen. Andersson är forskare i agrarhistoria vid Sveriges lantbruksuniversitet. \nInget förköp\, biljett köps på plats. \nArrangör: Historiska föreningen Kronoberg i samarbete med Kulturparken Småland. \nFoto: Hans Jonsson
URL:https://www.kulturparkensmaland.se/event/fran-tralar-till-tjanstefolk/
LOCATION:Utvandrarnas hus\, Vilhelm Mobergs gata 4\, Växjö\, 35229\, Sverige
ATTACH;FMTTYPE=image/jpeg:https://www.kulturparkensmaland.se/wp-content/uploads/Martin-Andersson_Det-fo╠ersvunna-Malmo╠e_Fo╠erfportr_Foto-Hans-Jonsson_1920x1080.jpg
END:VEVENT
BEGIN:VEVENT
DTSTART;TZID=Europe/Stockholm:20250215T110000
DTEND;TZID=Europe/Stockholm:20250215T123000
DTSTAMP:20260420T145300
CREATED:20250124T101323Z
LAST-MODIFIED:20250129T091807Z
UID:10000103-1739617200-1739622600@www.kulturparkensmaland.se
SUMMARY:Museikklubben - Trolleriskola!
DESCRIPTION:Inled sportloven med trolleriskola på Smålands museum! Trollkarlen Fredrik besöker Museiklubben. Först får vi se Fredrik trolla och därefter lär han oss att trolla med kortlek och papper. Det blir också tillfälle att visa varandra vad vi lärt oss. Museiklubben passar dig som är mellan 7–12 år. \nKöp biljett
URL:https://www.kulturparkensmaland.se/event/museikklubben/
LOCATION:Smålands museum\, Södra Järnvägsgatan 2\, Växjö\, 35229\, Sverige
ATTACH;FMTTYPE=image/jpeg:https://www.kulturparkensmaland.se/wp-content/uploads/museiklubben_1920x1080.jpg
END:VEVENT
BEGIN:VEVENT
DTSTART;TZID=Europe/Stockholm:20250218T123000
DTEND;TZID=Europe/Stockholm:20250218T153000
DTSTAMP:20260420T145300
CREATED:20250129T104038Z
LAST-MODIFIED:20250203T152712Z
UID:10000125-1739881800-1739892600@www.kulturparkensmaland.se
SUMMARY:Sportlovskul - Vi bygger med tändstickor
DESCRIPTION:Välkomna till en öppen skaparverkstad på Smålands museum. Vi bygger med tändstickor och utforskar vad man kan tänkas skapa av dem. Inspiration hämtas från utställningen LEKfullt och den småländska traditionen att tillverka träleksaker. \nAktiviteten är kostnadsfri och riktar sig till barn och unga från 5 år. Verkstaden är öppen för drop-in. Ingen föranmälan krävs\, men det finns ett begränsat antal platser i verkstaden.
URL:https://www.kulturparkensmaland.se/event/sportlovskul-vi-bygger-med-tandstickor/
LOCATION:Smålands museum\, Södra Järnvägsgatan 2\, Växjö\, 35229\, Sverige
ATTACH;FMTTYPE=image/jpeg:https://www.kulturparkensmaland.se/wp-content/uploads/Sportlovskul_1080x1350.jpg
END:VEVENT
BEGIN:VEVENT
DTSTART;TZID=Europe/Stockholm:20250219T113000
DTEND;TZID=Europe/Stockholm:20250219T153000
DTSTAMP:20260420T145300
CREATED:20250129T104352Z
LAST-MODIFIED:20250203T152631Z
UID:10000126-1739964600-1739979000@www.kulturparkensmaland.se
SUMMARY:Sportlovskul - Vi bygger med tändstickor!
DESCRIPTION:Välkomna till en öppen skaparverkstad på Smålands museum. Vi bygger med tändstickor och utforskar vad man kan tänkas skapa av dem. Inspiration hämtas från utställningen LEKfullt och den småländska traditionen att tillverka träleksaker. \nAktiviteten är kostnadsfri och riktar sig till barn och unga från 5 år. Verkstaden är öppen för drop-in. Ingen föranmälan krävs\, men det finns ett begränsat antal platser i verkstaden.
URL:https://www.kulturparkensmaland.se/event/sportlovskul-vi-bygger-med-tandstickor-2/
LOCATION:Smålands museum\, Södra Järnvägsgatan 2\, Växjö\, 35229\, Sverige
ATTACH;FMTTYPE=image/jpeg:https://www.kulturparkensmaland.se/wp-content/uploads/Sportlovskul_1080x1350.jpg
END:VEVENT
BEGIN:VEVENT
DTSTART;TZID=Europe/Stockholm:20250220T123000
DTEND;TZID=Europe/Stockholm:20250220T153000
DTSTAMP:20260420T145300
CREATED:20250129T104536Z
LAST-MODIFIED:20250203T152547Z
UID:10000127-1740054600-1740065400@www.kulturparkensmaland.se
SUMMARY:Sportlovskul - Vi bygger med tändstickor
DESCRIPTION:Välkomna till en öppen skaparverkstad på Smålands museum. Vi bygger med tändstickor och utforskar vad man kan tänkas skapa av dem. Inspiration hämtas från utställningen LEKfullt och den småländska traditionen att tillverka träleksaker. \nAktiviteten är kostnadsfri och riktar sig till barn och unga från 5 år. Verkstaden är öppen för drop-in. Ingen föranmälan krävs\, men det finns ett begränsat antal platser i verkstaden.
URL:https://www.kulturparkensmaland.se/event/sportlovskul-vi-bygger-med-tandstickor-3/
LOCATION:Smålands museum\, Södra Järnvägsgatan 2\, Växjö\, 35229\, Sverige
ATTACH;FMTTYPE=image/jpeg:https://www.kulturparkensmaland.se/wp-content/uploads/Sportlovskul_1080x1350.jpg
END:VEVENT
BEGIN:VEVENT
DTSTART;TZID=Europe/Stockholm:20250221T123000
DTEND;TZID=Europe/Stockholm:20250221T153000
DTSTAMP:20260420T145300
CREATED:20250129T104715Z
LAST-MODIFIED:20250203T152444Z
UID:10000128-1740141000-1740151800@www.kulturparkensmaland.se
SUMMARY:Sportlovskul - Vi bygger med tändstickor
DESCRIPTION:Välkomna till en öppen skaparverkstad på Smålands museum. Vi bygger med tändstickor och utforskar vad man kan tänkas skapa av dem. Inspiration hämtas från utställningen LEKfullt och den småländska traditionen att tillverka träleksaker. \nAktiviteten är kostnadsfri och riktar sig till barn och unga från 5 år. Verkstaden är öppen för drop-in. Ingen föranmälan krävs\, men det finns ett begränsat antal platser i verkstaden.
URL:https://www.kulturparkensmaland.se/event/sportlovskul-vi-bygger-med-tandstickor-4/
LOCATION:Smålands museum\, Södra Järnvägsgatan 2\, Växjö\, 35229\, Sverige
ATTACH;FMTTYPE=image/jpeg:https://www.kulturparkensmaland.se/wp-content/uploads/Sportlovskul_1080x1350.jpg
END:VEVENT
BEGIN:VEVENT
DTSTART;TZID=Europe/Stockholm:20250227T180000
DTEND;TZID=Europe/Stockholm:20250227T190000
DTSTAMP:20260420T145300
CREATED:20250124T100933Z
LAST-MODIFIED:20250124T101008Z
UID:10000104-1740679200-1740682800@www.kulturparkensmaland.se
SUMMARY:Möt Marina Kereklidou
DESCRIPTION:Marina Kereklidou\, en av Sveriges största modestjärnor\, som klätt Britney Spears\, Robyn och Nina Persson\, ser tillbaka på 30 år i modets centrum\, från uppväxten i Alvesta till livet som modeskapare\, stylist och creative director. Efter hennes föreläsning besöker vi tillsammans utställningen Jag är Marina Kereklidou. \nKöp biljett
URL:https://www.kulturparkensmaland.se/event/mot-marina-kereklidou/
LOCATION:Smålands museum\, Södra Järnvägsgatan 2\, Växjö\, 35229\, Sverige
ATTACH;FMTTYPE=image/jpeg:https://www.kulturparkensmaland.se/wp-content/uploads/21_Marina_Kereklidou_Foto_Tobias_Regell_1920x1080.jpg
END:VEVENT
END:VCALENDAR