BEGIN:VCALENDAR
VERSION:2.0
PRODID:-//Kulturparken Småland - ECPv6.15.17.1//NONSGML v1.0//EN
CALSCALE:GREGORIAN
METHOD:PUBLISH
X-WR-CALNAME:Kulturparken Småland
X-ORIGINAL-URL:https://www.kulturparkensmaland.se
X-WR-CALDESC:Händelser för Kulturparken Småland
REFRESH-INTERVAL;VALUE=DURATION:PT1H
X-Robots-Tag:noindex
X-PUBLISHED-TTL:PT1H
BEGIN:VTIMEZONE
TZID:Europe/Stockholm
BEGIN:DAYLIGHT
TZOFFSETFROM:+0100
TZOFFSETTO:+0200
TZNAME:CEST
DTSTART:20240331T010000
END:DAYLIGHT
BEGIN:STANDARD
TZOFFSETFROM:+0200
TZOFFSETTO:+0100
TZNAME:CET
DTSTART:20241027T010000
END:STANDARD
BEGIN:DAYLIGHT
TZOFFSETFROM:+0100
TZOFFSETTO:+0200
TZNAME:CEST
DTSTART:20250330T010000
END:DAYLIGHT
BEGIN:STANDARD
TZOFFSETFROM:+0200
TZOFFSETTO:+0100
TZNAME:CET
DTSTART:20251026T010000
END:STANDARD
BEGIN:DAYLIGHT
TZOFFSETFROM:+0100
TZOFFSETTO:+0200
TZNAME:CEST
DTSTART:20260329T010000
END:DAYLIGHT
BEGIN:STANDARD
TZOFFSETFROM:+0200
TZOFFSETTO:+0100
TZNAME:CET
DTSTART:20261025T010000
END:STANDARD
END:VTIMEZONE
BEGIN:VEVENT
DTSTART;TZID=Europe/Stockholm:20250305T180000
DTEND;TZID=Europe/Stockholm:20250305T200000
DTSTAMP:20260420T133720
CREATED:20250124T100748Z
LAST-MODIFIED:20250304T135138Z
UID:10000105-1741197600-1741204800@www.kulturparkensmaland.se
SUMMARY:Kvällsöppet på Kulturarvscentrum
DESCRIPTION:Välkommen till Kvällsöppet på Kulturavscentrum Småland. Öppet hus med föreläsning och visningar av öppet magasin\, glasmagasin och arkiv. \nKl 18 föreläser Marie Ulmhed Sjöberg om Elin Wägner och kvinnorna i Bergs kommun utifrån material i Växjö kommunarkiv. \nSmålands museum samlar in minnen från stormen Gudrun och hur den påverkade livet i Kronobergs län. Du kan vara med och berätta om dina minnen! Berättelserna sparas till framtiden i Smålands museums arkiv. Delta i vår  ”minnesworkshop” där museipersonal finns tillgänglig för dig som vill lämna din berättelse från stormen Gudrun. . \nVisningar av magasinen sker löpande under kvällen. Med anledning av pågående Elin Wägner-vecka tittar vi lite extra på Wägner-föremål i magasinet. \nKvällsöppet på Kulturarvscentrum är för dig som vill följa med bakom ”kulisserna” och upptäcka museets storskaliga samlingar och arkiv. \nEtt samarbete mellan Kulturparken Småland\, Växjö kommunarkiv och Elin Wägner-veckan.
URL:https://www.kulturparkensmaland.se/event/kvallsoppet-pa-kulturarvscentrum/
LOCATION:Kulturarvscentrum Småland\, Sandvägen 15\, Växjö\, 35245\, Sverige
ATTACH;FMTTYPE=image/jpeg:https://www.kulturparkensmaland.se/wp-content/uploads/kac_kvallsoppet_1920x1080.jpg
END:VEVENT
BEGIN:VEVENT
DTSTART;TZID=Europe/Stockholm:20250307T121500
DTEND;TZID=Europe/Stockholm:20250307T121500
DTSTAMP:20260420T133720
CREATED:20250124T100652Z
LAST-MODIFIED:20250124T100652Z
UID:10000106-1741349700-1741349700@www.kulturparkensmaland.se
SUMMARY:Lunchföreläsning: Vad kan vi lära oss av Elin Wägner?
DESCRIPTION:Elin Wägner hade en stark tro på pacifism. Internationella kvinnor för fred och frihet (IKFF) följer i Elins spår. I förändringens tid måste vi idag anpassa oss och hitta vägar till fred. Lunchföreläsning med Desirée Sterner\, förb.ordf. IKFF. Ett arrangemang i Elin Wägner-veckan. \nArrangör: IKFF\, Internationella kvinnor för fred och frihet
URL:https://www.kulturparkensmaland.se/event/lunchforelasning-vad-kan-vi-lara-oss-av-elin-wagner/
LOCATION:Smålands museum\, Södra Järnvägsgatan 2\, Växjö\, 35229\, Sverige
ATTACH;FMTTYPE=image/jpeg:https://www.kulturparkensmaland.se/wp-content/uploads/Elin_Wagner_1920x1080.jpg
END:VEVENT
BEGIN:VEVENT
DTSTART;TZID=Europe/Stockholm:20250308T130000
DTEND;TZID=Europe/Stockholm:20250308T130000
DTSTAMP:20260420T133720
CREATED:20250124T100541Z
LAST-MODIFIED:20250124T100541Z
UID:10000107-1741438800-1741438800@www.kulturparkensmaland.se
SUMMARY:Att larma men mötas av tystnad
DESCRIPTION:Författare\, journalister och forskare möts av tystnad och hån när de vittnar om hot och trakasserier de får utstå i sitt arbete. Fredrik von Malmborg\, lektor i statsvetenskap\, LiU\, Helle Klein\, direktor\, Sigtunastiftelsen\, Kristina Bingström\, chefredaktör\, SmP\, Cecilia Davidsson\, lektor\, kreativt skrivande\, LNU. Ett arrangemang i Elin Wägner-veckan. \nArrangör: Svenska PEN\, Det fria ordets hus\, Kulturparken Småland.
URL:https://www.kulturparkensmaland.se/event/att-larma-men-motas-av-tystnad/
LOCATION:Smålands museum\, Södra Järnvägsgatan 2\, Växjö\, 35229\, Sverige
ATTACH;FMTTYPE=image/jpeg:https://www.kulturparkensmaland.se/wp-content/uploads/Elin_Wagner_1920x1080.jpg
END:VEVENT
BEGIN:VEVENT
DTSTART;TZID=Europe/Stockholm:20250312T190000
DTEND;TZID=Europe/Stockholm:20250312T190000
DTSTAMP:20260420T133720
CREATED:20250124T100222Z
LAST-MODIFIED:20250124T100222Z
UID:10000108-1741806000-1741806000@www.kulturparkensmaland.se
SUMMARY:Teaterföreläsning: AI Dentity
DESCRIPTION:En banbrytande föreställning som suddar ut gränser i samtalet om AI och vår samtid. Genom att använda AI som verktyg och medskapare utforskar denna interaktiva föreläsningsföreställning hur artificiell intelligens påverkar och formar vår identitet. Medverkande: Erik Rosales. \nBiljetter köpes via Riksteatern Växjö \nArrangör: Riksteatern Växjö i samarbete med Kulturparken Småland. \nFoto: Riksteatern Växjö
URL:https://www.kulturparkensmaland.se/event/teaterforelasning-ai-dentity/
LOCATION:Utvandrarnas hus\, Vilhelm Mobergs gata 4\, Växjö\, 35229\, Sverige
ATTACH;FMTTYPE=image/jpeg:https://www.kulturparkensmaland.se/wp-content/uploads/AI.DENTITY_1920x1080.jpg
END:VEVENT
BEGIN:VEVENT
DTSTART;TZID=Europe/Stockholm:20250313T180000
DTEND;TZID=Europe/Stockholm:20250313T190000
DTSTAMP:20260420T133720
CREATED:20250124T095527Z
LAST-MODIFIED:20250212T133630Z
UID:10000109-1741888800-1741892400@www.kulturparkensmaland.se
SUMMARY:Anders Rydell: Stulen musik
DESCRIPTION:Stulen musik är det avslutande kapitlet i Anders Rydells trilogi om nazisternas kulturplundring under andra världskriget. Rydell berättar om musikens roll i Tredje riket och den systematiska stölden av instrument\, manuskript och böcker för att utplåna judiskt inflytande över europeisk musik. \nInget förköp\, biljett köps på plats. \nArrangör: Historiska föreningen i Kronoberg i samarbete med Kulturparken Småland. \nFoto: Rickard Eriksson
URL:https://www.kulturparkensmaland.se/event/anders-rydell-stulen-musik/
LOCATION:Utvandrarnas hus\, Vilhelm Mobergs gata 4\, Växjö\, 35229\, Sverige
ATTACH;FMTTYPE=image/jpeg:https://www.kulturparkensmaland.se/wp-content/uploads/Anders-Rydell-Foto-Rickard-Eriksson_1920x1080.jpg
END:VEVENT
BEGIN:VEVENT
DTSTART;TZID=Europe/Stockholm:20250320T180000
DTEND;TZID=Europe/Stockholm:20250320T200000
DTSTAMP:20260420T133720
CREATED:20250124T094952Z
LAST-MODIFIED:20250227T094626Z
UID:10000111-1742493600-1742500800@www.kulturparkensmaland.se
SUMMARY:I museets foajé
DESCRIPTION:Välkommen till en kreativ stund i museets foajé. Ta med dig en vän eller kom som du är. Denna gång tittar vi tillsammans på den retrospektiva utställningen Jag är Marina Kereklidou\, om modeskaparen med samma namn. Vi låter oss inspireras av Marinas kollektion Grand Hotell 6601 med praktfulla kreationer i satin- och ripsband. Därefter slår vi oss ner i foajén och ägnar oss åt eget skapande. Med hjälp av nål och tråd provar vi på att skapa egna formationer av ripsband. \nIngen förkunskap krävs. Vi står för material. Kaffe/te och en rejäl macka ingår. \nKöp biljett
URL:https://www.kulturparkensmaland.se/event/i-museets-foaje-4/
LOCATION:Smålands museum\, Södra Järnvägsgatan 2\, Växjö\, 35229\, Sverige
ATTACH;FMTTYPE=image/jpeg:https://www.kulturparkensmaland.se/wp-content/uploads/I_museets_foaje_1920x1080.jpg
END:VEVENT
BEGIN:VEVENT
DTSTART;TZID=Europe/Stockholm:20250322T110000
DTEND;TZID=Europe/Stockholm:20250322T120000
DTSTAMP:20260420T133720
CREATED:20250124T094841Z
LAST-MODIFIED:20250407T052800Z
UID:10000112-1742641200-1742644800@www.kulturparkensmaland.se
SUMMARY:Museiklubben
DESCRIPTION:Är du mellan 7–12 år och gillar museer? Kom och var med när Museiklubben tittar på utställningar och skapar i verkstaden. Denna gång får vi besök av Cecilia från Hemslöjden Kronoberg och slöjdar med halm. \nKöp biljett
URL:https://www.kulturparkensmaland.se/event/museiklubben-5/
LOCATION:Smålands museum\, Södra Järnvägsgatan 2\, Växjö\, 35229\, Sverige
ATTACH;FMTTYPE=image/jpeg:https://www.kulturparkensmaland.se/wp-content/uploads/museiklubben_1920x1080.jpg
END:VEVENT
BEGIN:VEVENT
DTSTART;TZID=Europe/Stockholm:20250326T192000
DTEND;TZID=Europe/Stockholm:20250326T210000
DTSTAMP:20260420T133720
CREATED:20250124T095335Z
LAST-MODIFIED:20250205T090256Z
UID:10000110-1743016800-1743022800@www.kulturparkensmaland.se
SUMMARY:PechaKucha
DESCRIPTION:Välkommen till en inspirerande PechaKucha night! Den japanska snabbpresentationstekniken PechaKucha finns på över 900 platser runt om i världen och har i Småland arrangerats på Kulturparken sedan 2010. Kom och lyssna på korta\, intressanta föreläsningar om form\, design och kultur. Första talare kl 19.20.
URL:https://www.kulturparkensmaland.se/event/pechakucha-2/
LOCATION:Smålands museum\, Södra Järnvägsgatan 2\, Växjö\, 35229\, Sverige
ATTACH;FMTTYPE=image/jpeg:https://www.kulturparkensmaland.se/wp-content/uploads/pechakucha-1.jpg
END:VEVENT
BEGIN:VEVENT
DTSTART;TZID=Europe/Stockholm:20250327T133000
DTEND;TZID=Europe/Stockholm:20250327T143000
DTSTAMP:20260420T133720
CREATED:20250124T094700Z
LAST-MODIFIED:20250124T094735Z
UID:10000113-1743082200-1743085800@www.kulturparkensmaland.se
SUMMARY:Kaffe och konst!
DESCRIPTION:Dagvisning av aktuella konstutställningar under ledning av konstvetare Emma Schmidt. Efter visningen finns det tid för kaffe och samtal. Idag samlas vi på Utvandrarnas hus och tittar närmare på utställningen Släkten och slavarna av Carl Johan De Geer. \nKöp biljett
URL:https://www.kulturparkensmaland.se/event/kaffe-och-konst-6/
LOCATION:Utvandrarnas hus\, Vilhelm Mobergs gata 4\, Växjö\, 35229\, Sverige
ATTACH;FMTTYPE=image/jpeg:https://www.kulturparkensmaland.se/wp-content/uploads/kaffe_konst_1920x1080-1.jpg
END:VEVENT
END:VCALENDAR