BEGIN:VCALENDAR
VERSION:2.0
PRODID:-//Kulturparken Småland - ECPv6.15.17.1//NONSGML v1.0//EN
CALSCALE:GREGORIAN
METHOD:PUBLISH
X-WR-CALNAME:Kulturparken Småland
X-ORIGINAL-URL:https://www.kulturparkensmaland.se
X-WR-CALDESC:Händelser för Kulturparken Småland
REFRESH-INTERVAL;VALUE=DURATION:PT1H
X-Robots-Tag:noindex
X-PUBLISHED-TTL:PT1H
BEGIN:VTIMEZONE
TZID:Europe/Stockholm
BEGIN:DAYLIGHT
TZOFFSETFROM:+0100
TZOFFSETTO:+0200
TZNAME:CEST
DTSTART:20240331T010000
END:DAYLIGHT
BEGIN:STANDARD
TZOFFSETFROM:+0200
TZOFFSETTO:+0100
TZNAME:CET
DTSTART:20241027T010000
END:STANDARD
BEGIN:DAYLIGHT
TZOFFSETFROM:+0100
TZOFFSETTO:+0200
TZNAME:CEST
DTSTART:20250330T010000
END:DAYLIGHT
BEGIN:STANDARD
TZOFFSETFROM:+0200
TZOFFSETTO:+0100
TZNAME:CET
DTSTART:20251026T010000
END:STANDARD
BEGIN:DAYLIGHT
TZOFFSETFROM:+0100
TZOFFSETTO:+0200
TZNAME:CEST
DTSTART:20260329T010000
END:DAYLIGHT
BEGIN:STANDARD
TZOFFSETFROM:+0200
TZOFFSETTO:+0100
TZNAME:CET
DTSTART:20261025T010000
END:STANDARD
END:VTIMEZONE
BEGIN:VEVENT
DTSTART;TZID=Europe/Stockholm:20250402T180000
DTEND;TZID=Europe/Stockholm:20250402T190000
DTSTAMP:20260420T105344
CREATED:20250124T094519Z
LAST-MODIFIED:20250325T135035Z
UID:10000114-1743616800-1743620400@www.kulturparkensmaland.se
SUMMARY:Historien om Småland: Musiken
DESCRIPTION:Historien om Småland fortsätter. Nu är det dags för Mathias Boström från Smålands musikarkiv\, att dyka ner i musiken som präglat Kronoberg genom tiderna. Finns det några drag som utmärker eller särskiljer musiken i Småland? Lyssna när han berättar om den talangtäta regionen med rik musiktradition och ta del av levande musikmaterial\, kanske även ett och annat instrument\, när han besöker Utvandrarnas hus. \nKöp biljett
URL:https://www.kulturparkensmaland.se/event/historien-om-smaland-musiken/
LOCATION:Utvandrarnas hus\, Vilhelm Mobergs gata 4\, Växjö\, 35229\, Sverige
ATTACH;FMTTYPE=image/jpeg:https://www.kulturparkensmaland.se/wp-content/uploads/historien-om-sma╠eland_mathias_bostro╠em_1920x1080-scaled.jpg
END:VEVENT
BEGIN:VEVENT
DTSTART;TZID=Europe/Stockholm:20250409T180000
DTEND;TZID=Europe/Stockholm:20250409T180000
DTSTAMP:20260420T105344
CREATED:20250124T094236Z
LAST-MODIFIED:20250212T133538Z
UID:10000115-1744221600-1744221600@www.kulturparkensmaland.se
SUMMARY:Fängslande öden: Tjuvar och bedragare i 1800-talets Sverige
DESCRIPTION:Utifrån sjutton straffångars självbiografier skisserar historikern Bonnie Clementsson en bild av hur ett liv i kriminalitet kunde te sig i 1800-talets Sverige. Berättelserna öppnar upp för reflektion om brott och straff ur ett allmänmänskligt perspektiv\, om kriminalitetens drivkrafter då som nu. Bonnie Clementsson är verksam vid Lunds universitet. \nInget förköp\, biljett köps på plats. \nArrangör: Historiska föreningen Kronoberg i samarbete med Kulturparken Småland
URL:https://www.kulturparkensmaland.se/event/fangslande-oden-tjuvar-och-bedragare-i-1800-talets-sverige/
LOCATION:Utvandrarnas hus\, Vilhelm Mobergs gata 4\, Växjö\, 35229\, Sverige
ATTACH;FMTTYPE=image/jpeg:https://www.kulturparkensmaland.se/wp-content/uploads/Bonnie-Clementsson_Foto-Lunds-universitet_1920x1080.jpg
END:VEVENT
BEGIN:VEVENT
DTSTART;TZID=Europe/Stockholm:20250410T133000
DTEND;TZID=Europe/Stockholm:20250410T143000
DTSTAMP:20260420T105344
CREATED:20250124T094137Z
LAST-MODIFIED:20250408T132432Z
UID:10000116-1744291800-1744295400@www.kulturparkensmaland.se
SUMMARY:Kaffe och konst
DESCRIPTION:Dagvisning av aktuella konstutställningar på Smålands museum under ledning av konstvetare Emma Schmidt. Idag ser vi utställningen Jag är Marina Kereklidou. Efter visningen finns det tid för kaffe och samtal. \nKöp biljett
URL:https://www.kulturparkensmaland.se/event/kaffe-och-konst-5/
LOCATION:Smålands museum\, Södra Järnvägsgatan 2\, Växjö\, 35229\, Sverige
ATTACH;FMTTYPE=image/jpeg:https://www.kulturparkensmaland.se/wp-content/uploads/kaffe_kereklidou_1920x1080.jpg
END:VEVENT
BEGIN:VEVENT
DTSTART;TZID=Europe/Stockholm:20250412T110000
DTEND;TZID=Europe/Stockholm:20250412T120000
DTSTAMP:20260420T105344
CREATED:20250124T094034Z
LAST-MODIFIED:20250407T052939Z
UID:10000117-1744455600-1744459200@www.kulturparkensmaland.se
SUMMARY:Museiklubben
DESCRIPTION:Den 12 april ger sig Museiklubben ut på ett litet äventyr bland Museiparkens gamla hus. Tillsammans med byggnadsantikvarie Samuel Palmblad smyger vi in där det vanligtvis är stängt för besökare. Det blir en upptäcksfärd bland knarrande golv\, hemliga vrår och berättelser om hur husen har byggts och bevarats genom tiderna. Vi är delvis utomhus så ta med kläder efter väder. \nMuseiklubben är Smålands museums klubb för kreativa barn som vill träffas och göra kul grejer på museet. Museiklubben riktar sig till barn som är 7–12 år och klubben träffas på Smålands museum. \nKöp biljett
URL:https://www.kulturparkensmaland.se/event/museiklubben-4/
LOCATION:Smålands museum\, Södra Järnvägsgatan 2\, Växjö\, 35229\, Sverige
ATTACH;FMTTYPE=image/jpeg:https://www.kulturparkensmaland.se/wp-content/uploads/Museiklubben_12april.jpg
END:VEVENT
BEGIN:VEVENT
DTSTART;TZID=Europe/Stockholm:20250423T180000
DTEND;TZID=Europe/Stockholm:20250423T180000
DTSTAMP:20260420T105344
CREATED:20250124T093920Z
LAST-MODIFIED:20250324T095331Z
UID:10000118-1745431200-1745431200@www.kulturparkensmaland.se
SUMMARY:Stadsvandring: Älmhult
DESCRIPTION:Kulturhistorisk vandring i Älmhult under ledning av byggnadsantikvarier Samuel Palmblad och Ludvig Svensén. Evenemanget är en del av Byggnadsvårdsåret 2025. \nSamling utanför kommunhuset i Älmhult\, kl 18.00. Ingen föranmälan. \nFoto: Olle Lilljeqvist.
URL:https://www.kulturparkensmaland.se/event/stadsvandring-almhult/
ATTACH;FMTTYPE=image/jpeg:https://www.kulturparkensmaland.se/wp-content/uploads/stadsvandring_a╠elmhult_1920x1080_WEBB.jpg
END:VEVENT
BEGIN:VEVENT
DTSTART;TZID=Europe/Stockholm:20250429T180000
DTEND;TZID=Europe/Stockholm:20250429T190000
DTSTAMP:20260420T105344
CREATED:20250124T093428Z
LAST-MODIFIED:20250124T093540Z
UID:10000120-1745949600-1745953200@www.kulturparkensmaland.se
SUMMARY:Kulturarvscentrum: Öppet magasin
DESCRIPTION:Visning av föremålssamlingen på Kulturarvscentrum Småland. Antikvarie Anders Bengtsson guidar. \nKöp biljett
URL:https://www.kulturparkensmaland.se/event/kulturarvscentrum-oppet-magasin/
LOCATION:Kulturarvscentrum Småland\, Sandvägen 15\, Växjö\, 35245\, Sverige
ATTACH;FMTTYPE=image/jpeg:https://www.kulturparkensmaland.se/wp-content/uploads/o╠eppet_magasin_1920x1080.jpg
END:VEVENT
END:VCALENDAR