BEGIN:VCALENDAR
VERSION:2.0
PRODID:-//Kulturparken Småland - ECPv6.15.17.1//NONSGML v1.0//EN
CALSCALE:GREGORIAN
METHOD:PUBLISH
X-WR-CALNAME:Kulturparken Småland
X-ORIGINAL-URL:https://www.kulturparkensmaland.se
X-WR-CALDESC:Händelser för Kulturparken Småland
REFRESH-INTERVAL;VALUE=DURATION:PT1H
X-Robots-Tag:noindex
X-PUBLISHED-TTL:PT1H
BEGIN:VTIMEZONE
TZID:Europe/Stockholm
BEGIN:DAYLIGHT
TZOFFSETFROM:+0100
TZOFFSETTO:+0200
TZNAME:CEST
DTSTART:20240331T010000
END:DAYLIGHT
BEGIN:STANDARD
TZOFFSETFROM:+0200
TZOFFSETTO:+0100
TZNAME:CET
DTSTART:20241027T010000
END:STANDARD
BEGIN:DAYLIGHT
TZOFFSETFROM:+0100
TZOFFSETTO:+0200
TZNAME:CEST
DTSTART:20250330T010000
END:DAYLIGHT
BEGIN:STANDARD
TZOFFSETFROM:+0200
TZOFFSETTO:+0100
TZNAME:CET
DTSTART:20251026T010000
END:STANDARD
BEGIN:DAYLIGHT
TZOFFSETFROM:+0100
TZOFFSETTO:+0200
TZNAME:CEST
DTSTART:20260329T010000
END:DAYLIGHT
BEGIN:STANDARD
TZOFFSETFROM:+0200
TZOFFSETTO:+0100
TZNAME:CET
DTSTART:20261025T010000
END:STANDARD
END:VTIMEZONE
BEGIN:VEVENT
DTSTART;TZID=Europe/Stockholm:20250613T100000
DTEND;TZID=Europe/Stockholm:20250613T104500
DTSTAMP:20260420T075340
CREATED:20250513T081913Z
LAST-MODIFIED:20250516T100835Z
UID:10000134-1749808800-1749811500@www.kulturparkensmaland.se
SUMMARY:Livepodd: Från slav till fri man i Lekaryd
DESCRIPTION:”Din podd på jorden” gästar Sagobygdens musik- och berättarfestival i Ljungby. Ta chansen att se och träffa personerna bakom podden fredag 13 juni kl 10.00 på Ljungby museum! \nHistoriker Håkan Nordmark från Smålands museum berättar om John Bull\, som föddes som slav på St Barthélemy men blev en fri man i Kronobergs län. Folkmusikern Jonas Åkerlund bidrar med musikaliska inslag och programledare är Petter Ericsson. \nNär: Fredag 13 juni kl 10.00 \nVar: Ljungby museum \nEntré: 100 kr eller Festivalplats. För biljettbokning: Sagobygdens musik och berättarfestival. \nArrangör: Kulturparken Småland i samarbete med Berättarnätet Kronoberg
URL:https://www.kulturparkensmaland.se/event/livepodd/
LOCATION:Ljungby museum
ATTACH;FMTTYPE=image/jpeg:https://www.kulturparkensmaland.se/wp-content/uploads/livepodd_1920x1080.jpg
END:VEVENT
BEGIN:VEVENT
DTSTART;VALUE=DATE:20250616
DTEND;VALUE=DATE:20250619
DTSTAMP:20260420T075340
CREATED:20250520T131843Z
LAST-MODIFIED:20250609T090502Z
UID:10000219-1750032000-1750291199@www.kulturparkensmaland.se
SUMMARY:Sommarkollo på Smålands museum
DESCRIPTION:Tre eftermiddagar i sommar med fokus på glas – i utställningar och verkstad utforskas glasets möjligheter på olika sätt. \nMåndag 16 juni kl 13.00–16.00: testar vi att göra mönster i glasmosaik. \nTisdag 17 juni kl 13.00–16.00: målar vi och dekorerar glas. \nOnsdag 18 juni kl 13.00–16.00: graverar vi glas. \nDet som skapas under dessa dagar får deltagarna ta med hem. \nMan deltar alla tre dagarna. Aktiviteten är kostnadsfri och riktar sig till barn och unga från 10 år och uppåt (inga vuxna). OBS! Begränsat antal platser\, anmälan görs här \n 
URL:https://www.kulturparkensmaland.se/event/sommarkollo-pa-smalands-museum/
LOCATION:Smålands museum\, Södra Järnvägsgatan 2\, Växjö\, 35229\, Sverige
ATTACH;FMTTYPE=image/jpeg:https://www.kulturparkensmaland.se/wp-content/uploads/sommarkollo_1920x1080-1.jpg
END:VEVENT
BEGIN:VEVENT
DTSTART;TZID=Europe/Stockholm:20250623T120000
DTEND;TZID=Europe/Stockholm:20250623T233000
DTSTAMP:20260420T075340
CREATED:20250513T090530Z
LAST-MODIFIED:20250513T092039Z
UID:10000173-1750680000-1750721400@www.kulturparkensmaland.se
SUMMARY:Poddsläpp: Telehistoriska miljöer i Kronobergs län
DESCRIPTION:Nytt avsnitt av ”Din podd på jorden”. I avsnitt 51 berättar 1:e byggnadsantikvarie Samuel Palmblad om telehistoriska miljöer i Kronobergs län. Avsnittet publiceras måndag 23 juni. \nMed start i 1850-talets telegraf fram till 1990-talets trådlösa teleförbindelser växer berättelsen fram om hur vårt land med manuella metoder knöts ihop med koppartråd och kablar. Samuel Palmblad berättar om rikskablar\, överdragsstationer och Ljungbys viktiga roll i världspolitiken under kalla kriget. \n51. Din podd på jorden: Telehistoriska miljöer i Kronobergs län – finns att lyssna på här från och med 23 juni. \nFoto: Tekniska museet
URL:https://www.kulturparkensmaland.se/event/poddslapp-telehistoriska-miljoer-i-kronobergs-lan/
ATTACH;FMTTYPE=image/jpeg:https://www.kulturparkensmaland.se/wp-content/uploads/poddslapp_1920x1080_foto-tekniska_museet.jpg
END:VEVENT
BEGIN:VEVENT
DTSTART;TZID=Europe/Stockholm:20250624T130000
DTEND;TZID=Europe/Stockholm:20250624T130000
DTSTAMP:20260420T075340
CREATED:20250513T083044Z
LAST-MODIFIED:20250603T122406Z
UID:10000137-1750770000-1750770000@www.kulturparkensmaland.se
SUMMARY:Öppna visningar Glas! Glas! Glas!
DESCRIPTION:Välkommen till en öppen visning och introduktion till utställningen Glas! Glas! Glas! Här möter du tre perspektiv på glas: den småländska glasindustrins historia\, glaset i samspel med ljus och glaset som material. Kulturparken Smålands guider och historiker håller en introduktion på ca 15-20 minuter. Därefter upptäcker du utställningen på egen hand. Visningen ingår i ordinarie entré. Ingen föranmälan.
URL:https://www.kulturparkensmaland.se/event/oppna-visningar-glas-glas-glas/
LOCATION:Smålands museum\, Södra Järnvägsgatan 2\, Växjö\, 35229\, Sverige
ATTACH;FMTTYPE=image/jpeg:https://www.kulturparkensmaland.se/wp-content/uploads/glas-glas-glas_visningar.jpg
END:VEVENT
BEGIN:VEVENT
DTSTART;TZID=Europe/Stockholm:20250625T130000
DTEND;TZID=Europe/Stockholm:20250625T130000
DTSTAMP:20260420T075340
CREATED:20250513T084121Z
LAST-MODIFIED:20250604T054355Z
UID:10000138-1750856400-1750856400@www.kulturparkensmaland.se
SUMMARY:Öppna visningar Glas! Glas! Glas!
DESCRIPTION:Välkommen till en öppen visning och introduktion till utställningen Glas! Glas! Glas! Här möter du tre perspektiv på glas: den småländska glasindustrins historia\, glaset i samspel med ljus och glaset som material. Kulturparken Smålands guider och historiker håller en introduktion på ca 15-20 minuter. Därefter upptäcker du utställningen på egen hand. Visningen ingår i ordinarie entré. Ingen föranmälan.
URL:https://www.kulturparkensmaland.se/event/oppna-visningar-glas-glas-glas-2/
LOCATION:Smålands museum\, Södra Järnvägsgatan 2\, Växjö\, 35229\, Sverige
ATTACH;FMTTYPE=image/jpeg:https://www.kulturparkensmaland.se/wp-content/uploads/glas-glas-glas_visningar.jpg
END:VEVENT
BEGIN:VEVENT
DTSTART;TZID=Europe/Stockholm:20250626T130000
DTEND;TZID=Europe/Stockholm:20250626T130000
DTSTAMP:20260420T075340
CREATED:20250513T084717Z
LAST-MODIFIED:20250604T054525Z
UID:10000139-1750942800-1750942800@www.kulturparkensmaland.se
SUMMARY:Öppna visningar Glas! Glas! Glas!
DESCRIPTION:Välkommen till en öppen visning och introduktion till utställningen Glas! Glas! Glas! Här möter du tre perspektiv på glas: den småländska glasindustrins historia\, glaset i samspel med ljus och glaset som material. Kulturparken Smålands guider och historiker håller en introduktion på ca 15-20 minuter. Därefter upptäcker du utställningen på egen hand. Visningen ingår i ordinarie entré. Ingen föranmälan.
URL:https://www.kulturparkensmaland.se/event/oppna-visningar-glas-glas-glas-3/
LOCATION:Smålands museum\, Södra Järnvägsgatan 2\, Växjö\, 35229\, Sverige
ATTACH;FMTTYPE=image/jpeg:https://www.kulturparkensmaland.se/wp-content/uploads/glas-glas-glas_visningar.jpg
END:VEVENT
BEGIN:VEVENT
DTSTART;TZID=Europe/Stockholm:20250627T130000
DTEND;TZID=Europe/Stockholm:20250627T130000
DTSTAMP:20260420T075340
CREATED:20250513T084823Z
LAST-MODIFIED:20250604T054634Z
UID:10000140-1751029200-1751029200@www.kulturparkensmaland.se
SUMMARY:Öppna visningar Glas! Glas! Glas!
DESCRIPTION:Välkommen till en öppen visning och introduktion till utställningen Glas! Glas! Glas! Här möter du tre perspektiv på glas: den småländska glasindustrins historia\, glaset i samspel med ljus och glaset som material. Kulturparken Smålands guider och historiker håller en introduktion på ca 15-20 minuter. Därefter upptäcker du utställningen på egen hand. Visningen ingår i ordinarie entré. Ingen föranmälan.
URL:https://www.kulturparkensmaland.se/event/oppna-visningar-glas-glas-glas-4/
LOCATION:Smålands museum\, Södra Järnvägsgatan 2\, Växjö\, 35229\, Sverige
ATTACH;FMTTYPE=image/jpeg:https://www.kulturparkensmaland.se/wp-content/uploads/glas-glas-glas_visningar.jpg
END:VEVENT
END:VCALENDAR