BEGIN:VCALENDAR
VERSION:2.0
PRODID:-//Kulturparken Småland - ECPv6.15.17.1//NONSGML v1.0//EN
CALSCALE:GREGORIAN
METHOD:PUBLISH
X-WR-CALNAME:Kulturparken Småland
X-ORIGINAL-URL:https://www.kulturparkensmaland.se
X-WR-CALDESC:Händelser för Kulturparken Småland
REFRESH-INTERVAL;VALUE=DURATION:PT1H
X-Robots-Tag:noindex
X-PUBLISHED-TTL:PT1H
BEGIN:VTIMEZONE
TZID:Europe/Stockholm
BEGIN:DAYLIGHT
TZOFFSETFROM:+0100
TZOFFSETTO:+0200
TZNAME:CEST
DTSTART:20240331T010000
END:DAYLIGHT
BEGIN:STANDARD
TZOFFSETFROM:+0200
TZOFFSETTO:+0100
TZNAME:CET
DTSTART:20241027T010000
END:STANDARD
BEGIN:DAYLIGHT
TZOFFSETFROM:+0100
TZOFFSETTO:+0200
TZNAME:CEST
DTSTART:20250330T010000
END:DAYLIGHT
BEGIN:STANDARD
TZOFFSETFROM:+0200
TZOFFSETTO:+0100
TZNAME:CET
DTSTART:20251026T010000
END:STANDARD
BEGIN:DAYLIGHT
TZOFFSETFROM:+0100
TZOFFSETTO:+0200
TZNAME:CEST
DTSTART:20260329T010000
END:DAYLIGHT
BEGIN:STANDARD
TZOFFSETFROM:+0200
TZOFFSETTO:+0100
TZNAME:CET
DTSTART:20261025T010000
END:STANDARD
END:VTIMEZONE
BEGIN:VEVENT
DTSTART;TZID=Europe/Stockholm:20250701T130000
DTEND;TZID=Europe/Stockholm:20250701T130000
DTSTAMP:20260420T045805
CREATED:20250513T084919Z
LAST-MODIFIED:20250604T054755Z
UID:10000141-1751374800-1751374800@www.kulturparkensmaland.se
SUMMARY:Öppna visningar Glas! Glas! Glas!
DESCRIPTION:Välkommen till en öppen visning och introduktion till utställningen Glas! Glas! Glas! Här möter du tre perspektiv på glas: den småländska glasindustrins historia\, glaset i samspel med ljus och glaset som material. Kulturparken Smålands guider och historiker håller en introduktion på ca 15-20 minuter. Därefter upptäcker du utställningen på egen hand. Visningen ingår i ordinarie entré. Ingen föranmälan.
URL:https://www.kulturparkensmaland.se/event/oppna-visningar-glas-glas-glas-5/
LOCATION:Smålands museum\, Södra Järnvägsgatan 2\, Växjö\, 35229\, Sverige
ATTACH;FMTTYPE=image/jpeg:https://www.kulturparkensmaland.se/wp-content/uploads/glas-glas-glas_visningar.jpg
END:VEVENT
BEGIN:VEVENT
DTSTART;TZID=Europe/Stockholm:20250701T150000
DTEND;TZID=Europe/Stockholm:20250701T150000
DTSTAMP:20260420T045805
CREATED:20250520T094203Z
LAST-MODIFIED:20250616T085315Z
UID:10000217-1751382000-1751382000@www.kulturparkensmaland.se
SUMMARY:Klädställningen
DESCRIPTION:En lekfull och poetisk cirkusföreställning som utspelar sig bland galgar\, kläder och rörelse.  Här skapas en egen liten värld i ett begränsat utrymme. Från 5 år. \nUpplev Museiparken när Scensommar gästar med scenkonst för unga – under bar himmel och alltid med fri entré. \nTvå av sommarens föreställningar ges i samarbete mellan Växjö kommun och Kulturparken Småland. Hela programmet finns tillgängligt på Upplev Växjö. \nFoto: Petra Älvstrand
URL:https://www.kulturparkensmaland.se/event/kladstallningen/
LOCATION:Museiparken\, Södra Järnvägsgatan 2\, Växjö\, 35229\, Sverige
ATTACH;FMTTYPE=image/jpeg:https://www.kulturparkensmaland.se/wp-content/uploads/Scensommar_Kla╠edsta╠ellningen_1920x1080ps.jpg
END:VEVENT
BEGIN:VEVENT
DTSTART;TZID=Europe/Stockholm:20250702T130000
DTEND;TZID=Europe/Stockholm:20250702T130000
DTSTAMP:20260420T045805
CREATED:20250513T084958Z
LAST-MODIFIED:20250604T054852Z
UID:10000142-1751461200-1751461200@www.kulturparkensmaland.se
SUMMARY:Öppna visningar Glas! Glas! Glas!
DESCRIPTION:Välkommen till en öppen visning och introduktion till utställningen Glas! Glas! Glas! Här möter du tre perspektiv på glas: den småländska glasindustrins historia\, glaset i samspel med ljus och glaset som material. Kulturparken Smålands guider och historiker håller en introduktion på ca 15-20 minuter. Därefter upptäcker du utställningen på egen hand. Visningen ingår i ordinarie entré. Ingen föranmälan.
URL:https://www.kulturparkensmaland.se/event/oppna-visningar-glas-glas-glas-6/
LOCATION:Smålands museum\, Södra Järnvägsgatan 2\, Växjö\, 35229\, Sverige
ATTACH;FMTTYPE=image/jpeg:https://www.kulturparkensmaland.se/wp-content/uploads/glas-glas-glas_visningar.jpg
END:VEVENT
BEGIN:VEVENT
DTSTART;TZID=Europe/Stockholm:20250703T130000
DTEND;TZID=Europe/Stockholm:20250703T130000
DTSTAMP:20260420T045805
CREATED:20250513T085116Z
LAST-MODIFIED:20250604T054952Z
UID:10000143-1751547600-1751547600@www.kulturparkensmaland.se
SUMMARY:Öppna visningar Glas! Glas! Glas!
DESCRIPTION:Välkommen till en öppen visning och introduktion till utställningen Glas! Glas! Glas! Här möter du tre perspektiv på glas: den småländska glasindustrins historia\, glaset i samspel med ljus och glaset som material. Kulturparken Smålands guider och historiker håller en introduktion på ca 15-20 minuter. Därefter upptäcker du utställningen på egen hand. Visningen ingår i ordinarie entré. Ingen föranmälan.
URL:https://www.kulturparkensmaland.se/event/oppna-visningar-glas-glas-glas-7/
LOCATION:Smålands museum\, Södra Järnvägsgatan 2\, Växjö\, 35229\, Sverige
ATTACH;FMTTYPE=image/jpeg:https://www.kulturparkensmaland.se/wp-content/uploads/glas-glas-glas_visningar.jpg
END:VEVENT
BEGIN:VEVENT
DTSTART;TZID=Europe/Stockholm:20250721T150000
DTEND;TZID=Europe/Stockholm:20250721T150000
DTSTAMP:20260420T045805
CREATED:20250520T094824Z
LAST-MODIFIED:20250520T094824Z
UID:10000218-1753110000-1753110000@www.kulturparkensmaland.se
SUMMARY:Barnens första rockshow!
DESCRIPTION:Varför får du inte äta godis varje dag? Och varför har vuxna så många regler? Tigern & Kobran bjuder på färgsprakande liveshow med energi från rockens glansdagar -ofta barnens första riktiga rockkonsert. Och ja – mamma och pappa brukar också digga! \n  \nUpplev Museiparkenn när Scensommar gästar med scenkonst för unga – under bar himmel och alltid med fri entré.\nTvå av sommarens föreställningar ges i samarbete mellan Växjö kommun och Kulturparken Småland. Hela programmet finns tillgängligt på Upplev Växjö.
URL:https://www.kulturparkensmaland.se/event/barnens-forsta-rockshow/
LOCATION:Museiparken\, Södra Järnvägsgatan 2\, Växjö\, 35229\, Sverige
ATTACH;FMTTYPE=image/jpeg:https://www.kulturparkensmaland.se/wp-content/uploads/Scensommar_Tigern-Kobran_1920x1080_fotoPetter-Karlberg.jpg
END:VEVENT
END:VCALENDAR