BEGIN:VCALENDAR
VERSION:2.0
PRODID:-//Kulturparken Småland - ECPv6.15.17.1//NONSGML v1.0//EN
CALSCALE:GREGORIAN
METHOD:PUBLISH
X-ORIGINAL-URL:https://www.kulturparkensmaland.se
X-WR-CALDESC:Händelser för Kulturparken Småland
REFRESH-INTERVAL;VALUE=DURATION:PT1H
X-Robots-Tag:noindex
X-PUBLISHED-TTL:PT1H
BEGIN:VTIMEZONE
TZID:Europe/Stockholm
BEGIN:DAYLIGHT
TZOFFSETFROM:+0100
TZOFFSETTO:+0200
TZNAME:CEST
DTSTART:20240331T010000
END:DAYLIGHT
BEGIN:STANDARD
TZOFFSETFROM:+0200
TZOFFSETTO:+0100
TZNAME:CET
DTSTART:20241027T010000
END:STANDARD
BEGIN:DAYLIGHT
TZOFFSETFROM:+0100
TZOFFSETTO:+0200
TZNAME:CEST
DTSTART:20250330T010000
END:DAYLIGHT
BEGIN:STANDARD
TZOFFSETFROM:+0200
TZOFFSETTO:+0100
TZNAME:CET
DTSTART:20251026T010000
END:STANDARD
BEGIN:DAYLIGHT
TZOFFSETFROM:+0100
TZOFFSETTO:+0200
TZNAME:CEST
DTSTART:20260329T010000
END:DAYLIGHT
BEGIN:STANDARD
TZOFFSETFROM:+0200
TZOFFSETTO:+0100
TZNAME:CET
DTSTART:20261025T010000
END:STANDARD
END:VTIMEZONE
BEGIN:VEVENT
DTSTART;TZID=Europe/Stockholm:20250901T130000
DTEND;TZID=Europe/Stockholm:20250901T133000
DTSTAMP:20260420T022306
CREATED:20250819T130304Z
LAST-MODIFIED:20250819T140241Z
UID:10000227-1756731600-1756733400@www.kulturparkensmaland.se
SUMMARY:Öppen visning - arkeologisk utgrävning Stallholmen
DESCRIPTION:I slutet av augusti inleds en ny mindre arkeologisk utgrävning vid Kronobergs slottsruin. Under två veckor söker vi spår av livet på Stallholmen – och du är varmt välkommen att följa arbetet på plats och besöka utgrävningen. Under flera dagar erbjuder vi visningar för allmänheten. Se evenemangskalender för samtliga datum och visningstider. \nFoto: Borggården. Kronobergs slottsruin 1938.\nFotograf: Boberg\, Paul. \nÅren 1935 – 1943 gjordes omfattande konserverings- och restaureringsarbeten på Kronobergs slottsruin och i samband med det även arkeologiska undersökningar. Bilden visar ett flertal kvinnor och män som samlats på borggårdens södra del. Troligen för att lyssna till ett föredrag. Foto mot sydöst före restaureringen.
URL:https://www.kulturparkensmaland.se/event/oppen-visning-arkeologisk-utgravning-stallholmen-5/
LOCATION:Stallholmen\, Kronobergs slottsruin
ATTACH;FMTTYPE=image/jpeg:https://www.kulturparkensmaland.se/wp-content/uploads/oppenvisning_stallholmen_banner_1920x1080.jpg
END:VEVENT
BEGIN:VEVENT
DTSTART;TZID=Europe/Stockholm:20250902T130000
DTEND;TZID=Europe/Stockholm:20250902T133000
DTSTAMP:20260420T022306
CREATED:20250819T130406Z
LAST-MODIFIED:20250819T140148Z
UID:10000228-1756818000-1756819800@www.kulturparkensmaland.se
SUMMARY:Öppen visning - arkeologisk utgrävning Stallholmen
DESCRIPTION:I slutet av augusti inleds en ny mindre arkeologisk utgrävning vid Kronobergs slottsruin. Under två veckor söker vi spår av livet på Stallholmen – och du är varmt välkommen att följa arbetet på plats och besöka utgrävningen. Under flera dagar erbjuder vi visningar för allmänheten. Se evenemangskalender för samtliga datum och visningstider. \nFoto: Borggården. Kronobergs slottsruin 1938.\nFotograf: Boberg\, Paul. \nÅren 1935 – 1943 gjordes omfattande konserverings- och restaureringsarbeten på Kronobergs slottsruin och i samband med det även arkeologiska undersökningar. Bilden visar ett flertal kvinnor och män som samlats på borggårdens södra del. Troligen för att lyssna till ett föredrag. Foto mot sydöst före restaureringen.
URL:https://www.kulturparkensmaland.se/event/oppen-visning-arkeologisk-utgravning-stallholmen-6/
LOCATION:Stallholmen\, Kronobergs slottsruin
ATTACH;FMTTYPE=image/jpeg:https://www.kulturparkensmaland.se/wp-content/uploads/oppenvisning_stallholmen_banner_1920x1080.jpg
END:VEVENT
BEGIN:VEVENT
DTSTART;TZID=Europe/Stockholm:20250903T130000
DTEND;TZID=Europe/Stockholm:20250903T133000
DTSTAMP:20260420T022306
CREATED:20250819T130506Z
LAST-MODIFIED:20250819T140046Z
UID:10000229-1756904400-1756906200@www.kulturparkensmaland.se
SUMMARY:Öppen visning - arkeologisk utgrävning Stallholmen
DESCRIPTION:I slutet av augusti inleds en ny mindre arkeologisk utgrävning vid Kronobergs slottsruin. Under två veckor söker vi spår av livet på Stallholmen – och du är varmt välkommen att följa arbetet på plats och besöka utgrävningen. Under flera dagar erbjuder vi visningar för allmänheten. Se evenemangskalender för samtliga datum och visningstider. \nFoto: Borggården. Kronobergs slottsruin 1938.\nFotograf: Boberg\, Paul. \nÅren 1935 – 1943 gjordes omfattande konserverings- och restaureringsarbeten på Kronobergs slottsruin och i samband med det även arkeologiska undersökningar. Bilden visar ett flertal kvinnor och män som samlats på borggårdens södra del. Troligen för att lyssna till ett föredrag. Foto mot sydöst före restaureringen.
URL:https://www.kulturparkensmaland.se/event/oppen-visning-arkeologisk-utgravning-stallholmen-7/
LOCATION:Stallholmen\, Kronobergs slottsruin
ATTACH;FMTTYPE=image/jpeg:https://www.kulturparkensmaland.se/wp-content/uploads/oppenvisning_stallholmen_banner_1920x1080.jpg
END:VEVENT
BEGIN:VEVENT
DTSTART;TZID=Europe/Stockholm:20250904T130000
DTEND;TZID=Europe/Stockholm:20250904T133000
DTSTAMP:20260420T022306
CREATED:20250819T130619Z
LAST-MODIFIED:20250819T135838Z
UID:10000230-1756990800-1756992600@www.kulturparkensmaland.se
SUMMARY:Öppen visning - arkeologisk utgrävning Stallholmen
DESCRIPTION:I slutet av augusti inleds en ny mindre arkeologisk utgrävning vid Kronobergs slottsruin. Under två veckor söker vi spår av livet på Stallholmen – och du är varmt välkommen att följa arbetet på plats och besöka utgrävningen. Under flera dagar erbjuder vi visningar för allmänheten. Se evenemangskalender för samtliga datum och visningstider. \nFoto: Borggården. Kronobergs slottsruin 1938.\nFotograf: Boberg\, Paul. \nÅren 1935 – 1943 gjordes omfattande konserverings- och restaureringsarbeten på Kronobergs slottsruin och i samband med det även arkeologiska undersökningar. Bilden visar ett flertal kvinnor och män som samlats på borggårdens södra del. Troligen för att lyssna till ett föredrag. Foto mot sydöst före restaureringen.
URL:https://www.kulturparkensmaland.se/event/oppen-visning-arkeologisk-utgravning-stallholmen-8/
LOCATION:Stallholmen\, Kronobergs slottsruin
ATTACH;FMTTYPE=image/jpeg:https://www.kulturparkensmaland.se/wp-content/uploads/oppenvisning_stallholmen_banner_1920x1080.jpg
END:VEVENT
BEGIN:VEVENT
DTSTART;TZID=Europe/Stockholm:20250904T130000
DTEND;TZID=Europe/Stockholm:20250904T160000
DTSTAMP:20260420T022306
CREATED:20250825T122019Z
LAST-MODIFIED:20250825T122019Z
UID:10000234-1756990800-1757001600@www.kulturparkensmaland.se
SUMMARY:Stockholms Auktionsverk på Smålands Museum
DESCRIPTION:Den 4 september arrangeras en föreläsnings- och värderingsdag i samarbete med Stockholms Auktionsverk på Smålands Museum. Klockan 13 håller Ulrika Ruding\, specialist på design hos Stockholms Auktionsverk\, ett föredrag om designklasser på auktionsmarknaden. Hon berättar om aktuella trender och hur det svenska konstglaset står sig idag. \nEfter föreläsningen\, mellan kl. 14 och 16\, finns Ulrika Ruding tillsammans med Malin Rebessi på plats för att värdera och ta emot föremål till höstens auktioner. Läs mer om besöket på www.auktionsverket.se \nVälkommen till värderingsdag på Smålands Museum tillsammans med några av Stockholms Auktionsverks ledande specialister. Fri entré till föreläsning och värdering av föremål. \nFoto: Stockholms Auktionsverk.
URL:https://www.kulturparkensmaland.se/event/stockholms-auktionsverk-pa-smalands-museum/
LOCATION:Smålands museum\, Södra Järnvägsgatan 2\, Växjö\, 35229\, Sverige
ATTACH;FMTTYPE=image/jpeg:https://www.kulturparkensmaland.se/wp-content/uploads/malin_rebessi_1920x1080.jpg
END:VEVENT
BEGIN:VEVENT
DTSTART;TZID=Europe/Stockholm:20250906T090000
DTEND;TZID=Europe/Stockholm:20250906T133000
DTSTAMP:20260420T022306
CREATED:20250827T080001Z
LAST-MODIFIED:20250825T142125Z
UID:10000235-1757149200-1757165400@www.kulturparkensmaland.se
SUMMARY:Vandring genom industristaden som aldrig blev
DESCRIPTION:Följ med historikern Håkan Nordmark på en vandring genom Växjö från 1700-tal till 1900-tal med glimtar från olika manufaktur- och industrisatsningar. Vissa av dem blev mer lyckade och långlivade\, andra kortvariga. Växjö blev aldrig någon industristad\, det finns flera förklaringar till det. Några av dessa tas upp under vandringen och vi möter några av de tillverkningsindustrier som trots allt funnits i staden. \nSamling kl. 9.00 i Museiparken vid entrén till Smålands museum. \nVi börjar med en del foton och kartor i museets hörsal och därefter ger vi oss ut i staden. Omkring kl. 11.00 blir det kaffepaus på Domkyrkocentrum (med tillfälle att besöka en toalett). Sedan fortsätter vandringen till flera av de miljöer och ställen vi sett vid morgonens bildvisning. Avslutning ca 13.30. \nSe till att ta med vatten eller en frukt (om det en varm dag). Är det en regnig dag – se till att ta med regnkläder. \nAnmälan till Mariann Hellberg på telefon 070-61 91 179. \nArrangeras av Historiska föreningen i Kronoberg och Kulturparken Småland. \nFoto: Fotograf okänd.
URL:https://www.kulturparkensmaland.se/event/vandring-genom-industristaden-som-aldrig-blev/
LOCATION:Museiparken\, Södra Järnvägsgatan 2\, Växjö\, 35229\, Sverige
ATTACH;FMTTYPE=image/jpeg:https://www.kulturparkensmaland.se/wp-content/uploads/tandsticksfabrik_fotograf_okand.jpg
END:VEVENT
BEGIN:VEVENT
DTSTART;TZID=Europe/Stockholm:20250913T110000
DTEND;TZID=Europe/Stockholm:20250913T110000
DTSTAMP:20260420T022306
CREATED:20250827T080022Z
LAST-MODIFIED:20250825T131219Z
UID:10000236-1757761200-1757761200@www.kulturparkensmaland.se
SUMMARY:Att bevara historiska och moderna byggnadsverk
DESCRIPTION:En kulturhistorisk vandring genom Ljungbys byggnadshistoria. Välkomna på en timmes promenad med Smålands museums byggnadsantikvarier. Evenemanget är en del av Byggnadsvårdsåret 2025. Samling kl 11.00 framför Hotel Terraza\, Ljungby. Fri entré\, ingen föranmälan. \nLäs mer om firandet av Europeiska Byggnadsvårdsåret 50 år. \nFoto: Fotograf Liljeqvist.
URL:https://www.kulturparkensmaland.se/event/att-bevara-historiska-och-moderna-byggnadsverk/
LOCATION:Hotel Terraza\, Stora Torget 1\, Ljungby.
ATTACH;FMTTYPE=image/jpeg:https://www.kulturparkensmaland.se/wp-content/uploads/Vandring_Ljungby-scaled.jpg
END:VEVENT
BEGIN:VEVENT
DTSTART;TZID=Europe/Stockholm:20250917T180000
DTEND;TZID=Europe/Stockholm:20250917T180000
DTSTAMP:20260420T022306
CREATED:20250827T080047Z
LAST-MODIFIED:20250826T092203Z
UID:10000252-1758132000-1758132000@www.kulturparkensmaland.se
SUMMARY:Gubbakväll i samlingarna
DESCRIPTION:Gubbar i alla åldrar och med valfri könsidentitet hälsas välkomna till en kväll på Kulturarvscentrum. Under ledning av antikvarie Björn Karlsson tittar vi närmare på museets samling av motorsågar och antika vapen. Därefter blir det prat\, smörgåstårta och lättöl. \nI priset ingår smörgås och dryck. \nKöp biljett \nFoto: Persson\, Anton.
URL:https://www.kulturparkensmaland.se/event/gubbakvall-i-samlingarna/
LOCATION:Kulturarvscentrum Småland\, Sandvägen 15\, Växjö\, 35245\, Sverige
ATTACH;FMTTYPE=image/jpeg:https://www.kulturparkensmaland.se/wp-content/uploads/gubbakvall_antonpersson.jpg
END:VEVENT
BEGIN:VEVENT
DTSTART;TZID=Europe/Stockholm:20250924T180000
DTEND;TZID=Europe/Stockholm:20250924T180000
DTSTAMP:20260420T022306
CREATED:20250827T080048Z
LAST-MODIFIED:20250903T065621Z
UID:10000258-1758736800-1758736800@www.kulturparkensmaland.se
SUMMARY:Det gamla Växjö – stad och landsbygd på samma gång
DESCRIPTION:Senare års undersökningar\, bland annat i Kungsgatan\, har visat att Växjö ända fram till 1700-talet var en glest bebyggd stad med odlingar och djurhållning inom stadskärnan. Ändå var Växjö en handelsstad och ett självklart centrum i Värend. Föredraget handlar om den annorlunda bild av staden som de senaste årens arkeologiska undersökningar och stadens paradoxala blandning av småskalig lantlighet och makt. Föreläsning med arkeolog Johan Åstrand. \nInget förköp\, biljett köps på plats.
URL:https://www.kulturparkensmaland.se/event/det-gamla-vaxjo-stad-och-landsbygd-pa-samma-gang/
LOCATION:Smålands museum\, Södra Järnvägsgatan 2\, Växjö\, 35229\, Sverige
ATTACH;FMTTYPE=image/jpeg:https://www.kulturparkensmaland.se/wp-content/uploads/johan_astrand.jpg
END:VEVENT
BEGIN:VEVENT
DTSTART;TZID=Europe/Stockholm:20250925T133000
DTEND;TZID=Europe/Stockholm:20250925T133000
DTSTAMP:20260420T022306
CREATED:20250827T080038Z
LAST-MODIFIED:20250827T132130Z
UID:10000232-1758807000-1758807000@www.kulturparkensmaland.se
SUMMARY:Kaffe och konst
DESCRIPTION:Dagvisning av aktuella glasutställningar på Smålands museum under ledning av glasantikvarie Björn Arfvidsson. Efter visningen finns det tid för kaffe och samtal. Idag tittar vi närmare på utställningen Glas! Glas! Glas! Kaffe och fikabröd ingår i biljettpriset. \nKöp biljett
URL:https://www.kulturparkensmaland.se/event/kaffe-och-konst/
LOCATION:Smålands museum\, Södra Järnvägsgatan 2\, Växjö\, 35229\, Sverige
ATTACH;FMTTYPE=image/jpeg:https://www.kulturparkensmaland.se/wp-content/uploads/kaffe_konst_glas_1920x1080-1.jpg
END:VEVENT
BEGIN:VEVENT
DTSTART;TZID=Europe/Stockholm:20250927T170000
DTEND;TZID=Europe/Stockholm:20250927T200000
DTSTAMP:20260420T022306
CREATED:20250827T080029Z
LAST-MODIFIED:20250826T082945Z
UID:10000251-1758992400-1759003200@www.kulturparkensmaland.se
SUMMARY:Kulturnatta Älmhult
DESCRIPTION:Smålands museum deltar på Kulturnatta i Älmhult. Glas\, gamla foton och konservering – möt museets experter. \nHar du ett glasföremål hemma som väcker frågor? Glasantikvarie Björn Arfvidsson hjälper dig att utforska dess tillverkning\, ålder och användning. Anders Åberg visar historiska fotografier från Älmhult med omnejd\, och Kajsa Söderberg bjuder på en inblick i konservatorns arbete. \nFoto: Lilljeqvist\, Olle.
URL:https://www.kulturparkensmaland.se/event/kulturnatta-almhult/
LOCATION:Norra Esplanaden 6\, Älmhult
ATTACH;FMTTYPE=image/jpeg:https://www.kulturparkensmaland.se/wp-content/uploads/kulturnatta_1920X1080.jpg
END:VEVENT
END:VCALENDAR