BEGIN:VCALENDAR
VERSION:2.0
PRODID:-//Kulturparken Småland - ECPv6.15.17.1//NONSGML v1.0//EN
CALSCALE:GREGORIAN
METHOD:PUBLISH
X-WR-CALNAME:Kulturparken Småland
X-ORIGINAL-URL:https://www.kulturparkensmaland.se
X-WR-CALDESC:Händelser för Kulturparken Småland
REFRESH-INTERVAL;VALUE=DURATION:PT1H
X-Robots-Tag:noindex
X-PUBLISHED-TTL:PT1H
BEGIN:VTIMEZONE
TZID:Europe/Stockholm
BEGIN:DAYLIGHT
TZOFFSETFROM:+0100
TZOFFSETTO:+0200
TZNAME:CEST
DTSTART:20240331T010000
END:DAYLIGHT
BEGIN:STANDARD
TZOFFSETFROM:+0200
TZOFFSETTO:+0100
TZNAME:CET
DTSTART:20241027T010000
END:STANDARD
BEGIN:DAYLIGHT
TZOFFSETFROM:+0100
TZOFFSETTO:+0200
TZNAME:CEST
DTSTART:20250330T010000
END:DAYLIGHT
BEGIN:STANDARD
TZOFFSETFROM:+0200
TZOFFSETTO:+0100
TZNAME:CET
DTSTART:20251026T010000
END:STANDARD
BEGIN:DAYLIGHT
TZOFFSETFROM:+0100
TZOFFSETTO:+0200
TZNAME:CEST
DTSTART:20260329T010000
END:DAYLIGHT
BEGIN:STANDARD
TZOFFSETFROM:+0200
TZOFFSETTO:+0100
TZNAME:CET
DTSTART:20261025T010000
END:STANDARD
END:VTIMEZONE
BEGIN:VEVENT
DTSTART;TZID=Europe/Stockholm:20251204T180000
DTEND;TZID=Europe/Stockholm:20251204T200000
DTSTAMP:20260419T223037
CREATED:20250827T080054Z
LAST-MODIFIED:20251129T142630Z
UID:10000250-1764871200-1764878400@www.kulturparkensmaland.se
SUMMARY:I museets foajé - ljusstöpning | SLUTSÅLT
DESCRIPTION:Välkommen till en kreativ stund i museets foajé. Vi skapar och samtalar utifrån ett kulturhistoriskt\ntema. Kaffe\, te och en kvällsmacka ingår i entrépriset. Inga förkunskaper krävs. \nFoto: Nilsson\, Mimmi.
URL:https://www.kulturparkensmaland.se/event/i-museets-foaje-ljusstopning/
LOCATION:Smålands museum\, Södra Järnvägsgatan 2\, Växjö\, 35229\, Sverige
ATTACH;FMTTYPE=image/jpeg:https://www.kulturparkensmaland.se/wp-content/uploads/museets_foaje1.jpg
END:VEVENT
BEGIN:VEVENT
DTSTART;TZID=Europe/Stockholm:20251209T180000
DTEND;TZID=Europe/Stockholm:20251209T180000
DTSTAMP:20260419T223037
CREATED:20250827T080034Z
LAST-MODIFIED:20251125T111936Z
UID:10000255-1765303200-1765303200@www.kulturparkensmaland.se
SUMMARY:Julkonsert med Linnékören
DESCRIPTION:Kom och lyssnar på studenterna i Linnékören som sjunger in Lucia och lyser upp decembermörkret med julsånger. \nStudenter betalar endast 60 kr. Ange kampanjkod ”STUDENT” vid köp. Var beredd att uppvisa giltig studentlegitimation. \nKöp biljett \nFoto: Andersson\, Yngve. Flickskolans avslutning\, Växjö Högre Allmänna Läroverks aula\, 1950.
URL:https://www.kulturparkensmaland.se/event/julkonsert-med-linnekoren/
LOCATION:Smålands museum\, Södra Järnvägsgatan 2\, Växjö\, 35229\, Sverige
ATTACH;FMTTYPE=image/jpeg:https://www.kulturparkensmaland.se/wp-content/uploads/korsang_FB_AnderssonYngve.jpg
END:VEVENT
BEGIN:VEVENT
DTSTART;TZID=Europe/Stockholm:20251227T140000
DTEND;TZID=Europe/Stockholm:20251227T140000
DTSTAMP:20260419T223037
CREATED:20251202T110053Z
LAST-MODIFIED:20251202T110136Z
UID:10000263-1766844000-1766844000@www.kulturparkensmaland.se
SUMMARY:Orgelkonsert
DESCRIPTION:I mellandagarna blir det att njuta av tonerna från den legendariska Cahmanorgeln\, från sent 1600-tal. Kvällens organist är Sara Karinsdotter och vi vågar lovar en musikalisk upplevelse utöver det vanliga\, med fri entré\, och en perfekt avslutning på kulturåret 2025. \nKulturparken Småland i samarbete med Orgelgruppen Växjö.
URL:https://www.kulturparkensmaland.se/event/orgelkonsert/
LOCATION:Smålands museum\, Södra Järnvägsgatan 2\, Växjö\, 35229\, Sverige
ATTACH;FMTTYPE=image/jpeg:https://www.kulturparkensmaland.se/wp-content/uploads/cahman_orgel_FB.jpg
END:VEVENT
END:VCALENDAR