BEGIN:VCALENDAR
VERSION:2.0
PRODID:-//Kulturparken Småland - ECPv6.15.17.1//NONSGML v1.0//EN
CALSCALE:GREGORIAN
METHOD:PUBLISH
X-WR-CALNAME:Kulturparken Småland
X-ORIGINAL-URL:https://www.kulturparkensmaland.se
X-WR-CALDESC:Händelser för Kulturparken Småland
REFRESH-INTERVAL;VALUE=DURATION:PT1H
X-Robots-Tag:noindex
X-PUBLISHED-TTL:PT1H
BEGIN:VTIMEZONE
TZID:Europe/Stockholm
BEGIN:DAYLIGHT
TZOFFSETFROM:+0100
TZOFFSETTO:+0200
TZNAME:CEST
DTSTART:20250330T010000
END:DAYLIGHT
BEGIN:STANDARD
TZOFFSETFROM:+0200
TZOFFSETTO:+0100
TZNAME:CET
DTSTART:20251026T010000
END:STANDARD
BEGIN:DAYLIGHT
TZOFFSETFROM:+0100
TZOFFSETTO:+0200
TZNAME:CEST
DTSTART:20260329T010000
END:DAYLIGHT
BEGIN:STANDARD
TZOFFSETFROM:+0200
TZOFFSETTO:+0100
TZNAME:CET
DTSTART:20261025T010000
END:STANDARD
BEGIN:DAYLIGHT
TZOFFSETFROM:+0100
TZOFFSETTO:+0200
TZNAME:CEST
DTSTART:20270328T010000
END:DAYLIGHT
BEGIN:STANDARD
TZOFFSETFROM:+0200
TZOFFSETTO:+0100
TZNAME:CET
DTSTART:20271031T010000
END:STANDARD
END:VTIMEZONE
BEGIN:VEVENT
DTSTART;TZID=Europe/Stockholm:20260131T110000
DTEND;TZID=Europe/Stockholm:20260131T220000
DTSTAMP:20260419T211354
CREATED:20260107T084112Z
LAST-MODIFIED:20260129T120615Z
UID:10000264-1769857200-1769896800@www.kulturparkensmaland.se
SUMMARY:Kulturnatten 2026
DESCRIPTION:Välkommen till Kulturnatten 2026! Den 31 januari fylls Kulturparken Småland med liv\, berättelser och upplevelser från morgon till kväll. Under Kulturnatten bjuder vi på stadsvandringar\, vernissager\, föredrag\, workshops\, dans\, musik och eldshow – för stora och små\, ute och inne. Alla arrangemang är gratis och pågår mellan kl. 11.00–22.00. \n \n\nProgram\nUtomhus \n11.00\nStadsvandring och guidad tur vid Ringsbergsområdet med byggnadsantikvarierna Samuel Palmblad och Ludwig Svensén. På området huserade tidigare bland annat bryggeri och fängelse. Här fanns även viktiga beredskapsfunktioner. I samband med Smålands Museums nya utställning Brott\, bödlar och blåljus ges en berättande vandring om den historiska platsen.\nPlats: Samling sker vid Ringsbergsskolans huvudentré klockan 11.00. Ingen föranmälan krävs. \n11.00–15.00\nProva-på smide för barn Smeden Linus Ljunggren tar med sin fältässja med tramphjul till museiparken – alla barn är välkomna att tillverka fräcka föremål i smedjan! Plats: Museiparken \n16.00–22.30\nPersson & Perssons pop-up restaurang och glasbutik. Glasblåsarna Persson & Persson kommer med sin rullande restaurang och serverar bland annat en utsökt god gryta. De säljer även glas från sin egna glashytta\, och berättar om sin verksamhet i Ösjöbol. Plats: Museiparken \n22.00\nEldshow med Momo Jord. Plats: Museiparken \nSmålands museum \n11.00–20.00\nLek i utställningen LEKfullt. Passa på att leka i utställningen Lekfullt. Fri entré hela dagen för stora och små. \n12.00\nVernissage: Beredskap med slöjd. Välkommen till öppningen av Hemslöjdens nya utställning Beredskap med slöjd! Under vernissagen får du möta berättelserna bakom verken – hur traditionellt hantverk\, kreativitet och krisberedskap vävts samman till en oväntad och tankeväckande helhet. En inspirerande introduktion för både nyfikna och slöjdentusiaster. \n12.30–14.30\nHemslöjdens workshop: Skapa din egen “oro”. Fördjupa dig i slöjdens värld i vår kreativa pysselverkstad! Här får du prova på att tillverka din egen oro – ett traditionellt hängande föremål som både pryder och inger ro. \n12.30\nFöredrag och boksläpp: Den Sista Döden – två kvinnor\, två brott\, två öden. Historikern Håkan Nordmark\, medförfattare till boken ”Brott\, bödlar och blåljus”\, tar oss tillbaka till 1800-talets rättssalar och avrättningsplatser. Här möter vi Maria\, som fördes till stupstocken i Växjö år 1838\, och Johanna\, som avrättades på galgbacken vid Ingelstad år 1844. Genom deras berättelser väcks frågor om skuld\, rättvisa och hur samhället såg på liv och död. \n13.00–18.00\nKulturarvscentrum Småland visar upp Digitalt Museum. Antikvarierna Anders Åberg och Anders Bengtsson visar och berättar om digitaltmuseum.se där 110 000 föremål ur museets samlingar finns tillgängliga. \n13.30\nLandshövdingen inviger nya utställningen Brott\, bödlar och blåljus. Utställningen berättar om brott och straff i Småland ur ett historiskt perspektiv. Utställningen är producerad av Smålands museum i samarbete med Polisutbildningen på Linnéuniversitetet i Växjö. Det bjuds på vatten & bröd samt visning av utställningen. Landshövding Maria Arnholm inviger. \n15.00–18.00\nArkeologiska föreningen gästar utställningen 13000 år – Forntiden nära oss. \n16.00 Vernissage för utställningen Peo Ström – Alsterfors sista supernova!. Ny utställning med glas från konstnären Per-Olof Ströms produktion på Alsterfors glasbruk 1967-1972. På plats finns glasantikvarie Björn Arfvidsson och Mattis Granström som berättar om utställningen. \n17:30 och 20:00\nFöreställningen om Christina Nilssons liv Christina Nilssons liv skildras i form av en föreställning där tre solister gestaltar hennes liv som barn\, som operastjärna\, och tiden efter sin sångkarriär. Framträdandet kopplas till den utställning om Christina Nilsson som visas på Smålands museum och dagen till ära plockar arkivet fram unika rariteter som tillhört henne. Christina Nilsson föddes i Vederslöv utanför Växjö\, levde mellan 1843-1921\, och är en av världens mest framgångsrika operasångerskor. Arrangeras av Christina Nilssonsällskapet och visas i två omgångar. \nUtvandrarnas hus \n12.00–13.00\nProva på afrikansk dans med dansinstruktören Nico \n13.00–16.00\nDansklubben Swing bjuder in till social dans med blandad musik \n17.00–18.00\nTeater Ginny bjuder in till öppen repetition av föreställningen Gökboet. Teater Ginny presenterar sin kommande uppsättning av Gökboet som spelas i mars på Växjö Teater. Kom och träffa McMurphy\, syster Ratched\, Dale Harding\, Billy Bibbit och andra färgstarka karaktärer i pjäsen.  \n19.30–20.00\nFolkdanslaget Värendsgillet bjuder in till dansuppträdande med dragspelsmusik
URL:https://www.kulturparkensmaland.se/event/kulturnatten-2026/
LOCATION:Smålands museum\, Södra Järnvägsgatan 2\, Växjö\, 35229\, Sverige
ATTACH;FMTTYPE=image/jpeg:https://www.kulturparkensmaland.se/wp-content/uploads/Kulturnatten2_1920x1080.jpg
END:VEVENT
BEGIN:VEVENT
DTSTART;TZID=Europe/Stockholm:20260131T120000
DTEND;TZID=Europe/Stockholm:20260131T120000
DTSTAMP:20260419T211354
CREATED:20260107T124517Z
LAST-MODIFIED:20260107T124659Z
UID:10000267-1769860800-1769860800@www.kulturparkensmaland.se
SUMMARY:Vernissage: Beredskap med slöjd
DESCRIPTION:Välkommen till öppningen av Hemslöjdens nya utställning Beredskap med slöjd! Under vernissagen får du möta berättelserna bakom verken – hur traditionellt hantverk\, kreativitet och krisberedskap vävts samman till en oväntad och tankeväckande helhet. En inspirerande introduktion för både nyfikna och slöjdentusiaster. Vernissagen är del av programmet under Kulturnatten 2026.
URL:https://www.kulturparkensmaland.se/event/vernissage-beredskap-med-slojd/
LOCATION:Smålands museum\, Södra Järnvägsgatan 2\, Växjö\, 35229\, Sverige
ATTACH;FMTTYPE=image/jpeg:https://www.kulturparkensmaland.se/wp-content/uploads/Web_some.jpg
END:VEVENT
BEGIN:VEVENT
DTSTART;TZID=Europe/Stockholm:20260131T133000
DTEND;TZID=Europe/Stockholm:20260131T133000
DTSTAMP:20260419T211354
CREATED:20260107T122952Z
LAST-MODIFIED:20260107T123018Z
UID:10000265-1769866200-1769866200@www.kulturparkensmaland.se
SUMMARY:Vernissage: Brott\, Bödlar och Blåljus
DESCRIPTION:Landshövding Maria Arnholm inviger nya utställningen Brott\, Bödlar & Blåljus under Kulturnatten 2026. Utställningen berättar om brott och straff i Småland ur ett historiskt perspektiv. Utställningen är producerad av Smålands museum i samarbete med Polisutbildningen på Linnéuniversitetet i Växjö. Det bjuds på vatten & bröd samt visning av utställningen.
URL:https://www.kulturparkensmaland.se/event/vernissage-brott-bodlar-och-blaljus/
LOCATION:Smålands museum\, Södra Järnvägsgatan 2\, Växjö\, 35229\, Sverige
ATTACH;FMTTYPE=image/jpeg:https://www.kulturparkensmaland.se/wp-content/uploads/brott_1920x1080.jpg
END:VEVENT
BEGIN:VEVENT
DTSTART;TZID=Europe/Stockholm:20260131T160000
DTEND;TZID=Europe/Stockholm:20260131T160000
DTSTAMP:20260419T211354
CREATED:20260107T124115Z
LAST-MODIFIED:20260107T124609Z
UID:10000266-1769875200-1769875200@www.kulturparkensmaland.se
SUMMARY:Vernissage: Peo Ström – Alsterfors sista supernova
DESCRIPTION:Vernissage för utställningen Peo Ström – Alsterfors sista supernova! Ny utställning med glas från konstnären Per-Olof Ströms produktion på Alsterfors glasbruk 1967-1972. Utställningen invigs av glasantikvarie Björn Arfvidsson och Mattis Granström som en del av programmet under Kulturnatten 2026.
URL:https://www.kulturparkensmaland.se/event/vernissage-peo-strom-alsterfors-sista-supernova/
LOCATION:Sveriges glasmuseum\, Södra Järnvägsgatan 2\, Växjö\, 35229\, Sverige
ATTACH;FMTTYPE=image/jpeg:https://www.kulturparkensmaland.se/wp-content/uploads/peo_strom_1920x1080.jpg
END:VEVENT
END:VCALENDAR