BEGIN:VCALENDAR
VERSION:2.0
PRODID:-//Kulturparken Småland - ECPv6.15.17.1//NONSGML v1.0//EN
CALSCALE:GREGORIAN
METHOD:PUBLISH
X-ORIGINAL-URL:https://www.kulturparkensmaland.se
X-WR-CALDESC:Händelser för Kulturparken Småland
REFRESH-INTERVAL;VALUE=DURATION:PT1H
X-Robots-Tag:noindex
X-PUBLISHED-TTL:PT1H
BEGIN:VTIMEZONE
TZID:Europe/Stockholm
BEGIN:DAYLIGHT
TZOFFSETFROM:+0100
TZOFFSETTO:+0200
TZNAME:CEST
DTSTART:20250330T010000
END:DAYLIGHT
BEGIN:STANDARD
TZOFFSETFROM:+0200
TZOFFSETTO:+0100
TZNAME:CET
DTSTART:20251026T010000
END:STANDARD
BEGIN:DAYLIGHT
TZOFFSETFROM:+0100
TZOFFSETTO:+0200
TZNAME:CEST
DTSTART:20260329T010000
END:DAYLIGHT
BEGIN:STANDARD
TZOFFSETFROM:+0200
TZOFFSETTO:+0100
TZNAME:CET
DTSTART:20261025T010000
END:STANDARD
BEGIN:DAYLIGHT
TZOFFSETFROM:+0100
TZOFFSETTO:+0200
TZNAME:CEST
DTSTART:20270328T010000
END:DAYLIGHT
BEGIN:STANDARD
TZOFFSETFROM:+0200
TZOFFSETTO:+0100
TZNAME:CET
DTSTART:20271031T010000
END:STANDARD
END:VTIMEZONE
BEGIN:VEVENT
DTSTART;TZID=Europe/Stockholm:20260211T180000
DTEND;TZID=Europe/Stockholm:20260211T180000
DTSTAMP:20260419T194954
CREATED:20260129T090057Z
LAST-MODIFIED:20260121T133652Z
UID:10000270-1770832800-1770832800@www.kulturparkensmaland.se
SUMMARY:Vi lever fortfarande med 1920-talet idag
DESCRIPTION:Det glada 1920-talet var inte bara glatt. Med årtiondets politiska och kulturella omvälvningar tar det moderna Europa form och gestalt\, det Europa vi lever i idag. Självklart är skillnaderna stora mellan då och nu. Men fundamentet stöps för ett nytt sorts tänkande\, som öppnar för möjligheter till nya\, moderna sätt att leva. Vårt eget 2020-tal inrymmer med andra ord utvecklingar och tendenser som på olika sätt står i förbindelse med det förra seklets. Välkomna till ett samtal mellan de båda professorerna Kim Salomon och Klas-Göran Karlsson. \nInget förköp\, biljett köps på plats. \nArrangör: Historiska föreningen i Kronoberg i samarbete med Kulturparken Småland. \nFoto: fotograf okänd.
URL:https://www.kulturparkensmaland.se/event/vi-lever-fortfarande-med-1920-talet-idag/
LOCATION:Utvandrarnas hus\, Vilhelm Mobergs gata 4\, Växjö\, 35229\, Sverige
ATTACH;FMTTYPE=image/jpeg:https://www.kulturparkensmaland.se/wp-content/uploads/20talet_FB.jpg
END:VEVENT
BEGIN:VEVENT
DTSTART;TZID=Europe/Stockholm:20260212T130000
DTEND;TZID=Europe/Stockholm:20260212T133000
DTSTAMP:20260419T194954
CREATED:20260129T090001Z
LAST-MODIFIED:20260203T102423Z
UID:10000271-1770901200-1770903000@www.kulturparkensmaland.se
SUMMARY:Öppen visning av ”Brott\, bödlar och blåljus” med Håkan Nordmark
DESCRIPTION:Vad händer när lagen ska skipas – och när den bryts? Under denna visning av utställningen Brott\, bödlar och blåljus får du komma närmare brottsligheten i Småland genom århundradena. Från medeltidens rättssalar till polisens moderna blåljus. Guidad tur med historiker Håkan Nordmark. \nIngår i biljettentrén. Pågår cirka 30 minuter.
URL:https://www.kulturparkensmaland.se/event/oppen-visning-av-brott-bodlar-blaljus-med-hakan-nordmark/
LOCATION:Smålands museum\, Södra Järnvägsgatan 2\, Växjö\, 35229\, Sverige
ATTACH;FMTTYPE=image/jpeg:https://www.kulturparkensmaland.se/wp-content/uploads/oppen_visning_BBB_FB.jpg
END:VEVENT
BEGIN:VEVENT
DTSTART;TZID=Europe/Stockholm:20260217T130000
DTEND;TZID=Europe/Stockholm:20260217T150000
DTSTAMP:20260419T194954
CREATED:20260129T090024Z
LAST-MODIFIED:20260216T131009Z
UID:10000273-1771333200-1771340400@www.kulturparkensmaland.se
SUMMARY:Sportlovskul
DESCRIPTION:Titta vi flyger! Kreativ verkstad för barn mellan 6-12 år. Vi bygger flygande farkoster med material som många har hemma. \nDrop in. Ingen föranmälan. Gratis för barn och en medföljande vuxen.
URL:https://www.kulturparkensmaland.se/event/sportlovskul-2/
LOCATION:Smålands museum\, Södra Järnvägsgatan 2\, Växjö\, 35229\, Sverige
ATTACH;FMTTYPE=image/jpeg:https://www.kulturparkensmaland.se/wp-content/uploads/sportlovskul_1920x1080-2.jpg
END:VEVENT
BEGIN:VEVENT
DTSTART;TZID=Europe/Stockholm:20260218T130000
DTEND;TZID=Europe/Stockholm:20260218T150000
DTSTAMP:20260419T194954
CREATED:20260129T090005Z
LAST-MODIFIED:20260216T130946Z
UID:10000272-1771419600-1771426800@www.kulturparkensmaland.se
SUMMARY:Sportlovskul
DESCRIPTION:Titta vi flyger! Kreativ verkstad för barn mellan 6-12 år. Vi bygger flygande farkoster med material som många har hemma. \nDrop in. Ingen föranmälan. Gratis för barn och en medföljande vuxen.
URL:https://www.kulturparkensmaland.se/event/sportlovskul/
LOCATION:Smålands museum\, Södra Järnvägsgatan 2\, Växjö\, 35229\, Sverige
ATTACH;FMTTYPE=image/jpeg:https://www.kulturparkensmaland.se/wp-content/uploads/sportlovskul_1920x1080-2.jpg
END:VEVENT
BEGIN:VEVENT
DTSTART;TZID=Europe/Stockholm:20260219T130000
DTEND;TZID=Europe/Stockholm:20260219T150000
DTSTAMP:20260419T194954
CREATED:20260129T090000Z
LAST-MODIFIED:20260216T130924Z
UID:10000274-1771506000-1771513200@www.kulturparkensmaland.se
SUMMARY:Sportlovskul
DESCRIPTION:Titta vi flyger! Kreativ verkstad för barn mellan 6-12 år. Vi bygger flygande farkoster med material som många har hemma. \nDrop in. Ingen föranmälan. Gratis för barn och en medföljande vuxen.
URL:https://www.kulturparkensmaland.se/event/sportlovskul-3/
LOCATION:Smålands museum\, Södra Järnvägsgatan 2\, Växjö\, 35229\, Sverige
ATTACH;FMTTYPE=image/jpeg:https://www.kulturparkensmaland.se/wp-content/uploads/sportlovskul_1920x1080-2.jpg
END:VEVENT
BEGIN:VEVENT
DTSTART;TZID=Europe/Stockholm:20260220T130000
DTEND;TZID=Europe/Stockholm:20260220T150000
DTSTAMP:20260419T194954
CREATED:20260129T090028Z
LAST-MODIFIED:20260216T130900Z
UID:10000275-1771592400-1771599600@www.kulturparkensmaland.se
SUMMARY:Sportlovskul
DESCRIPTION:Titta vi flyger! Kreativ verkstad för barn mellan 6-12 år. Vi bygger flygande farkoster med material som många har hemma. \nDrop in. Ingen föranmälan. Gratis för barn och en medföljande vuxen.
URL:https://www.kulturparkensmaland.se/event/sportlovskul-4/
LOCATION:Smålands museum\, Södra Järnvägsgatan 2\, Växjö\, 35229\, Sverige
ATTACH;FMTTYPE=image/jpeg:https://www.kulturparkensmaland.se/wp-content/uploads/sportlovskul_1920x1080-2.jpg
END:VEVENT
BEGIN:VEVENT
DTSTART;TZID=Europe/Stockholm:20260225T150000
DTEND;TZID=Europe/Stockholm:20260225T160000
DTSTAMP:20260419T194954
CREATED:20260129T090002Z
LAST-MODIFIED:20260203T102643Z
UID:10000276-1772031600-1772035200@www.kulturparkensmaland.se
SUMMARY:Samtal och reflektioner om utställningen och boken ”Brott\, bödlar och blåljus”
DESCRIPTION:Hur har lagar och brottslighet förändrats genom århundradena? Bokpresentation och samtal om utställningen Brott\, bödlar och blåljus. Medverkar gör tre av bokens författare: historikerna Marie Eriksson\, Malin Lennartsson och Roddy Nilsson från Linnéuniversitetet.
URL:https://www.kulturparkensmaland.se/event/samtal-och-reflektioner-om-utstallningen-och-boken-brott-bodlar-och-blaljus/
LOCATION:Smålands museum\, Södra Järnvägsgatan 2\, Växjö\, 35229\, Sverige
ATTACH;FMTTYPE=image/jpeg:https://www.kulturparkensmaland.se/wp-content/uploads/samtal_BBB_FB.jpg
END:VEVENT
BEGIN:VEVENT
DTSTART;TZID=Europe/Stockholm:20260228T150000
DTEND;TZID=Europe/Stockholm:20260228T150000
DTSTAMP:20260419T194954
CREATED:20260129T090017Z
LAST-MODIFIED:20260120T115514Z
UID:10000295-1772290800-1772290800@www.kulturparkensmaland.se
SUMMARY:Glasriket tillhör alla
DESCRIPTION:Björn Boode och Peter Lejons succéartade föredragsshow kommer till Kulturparken. Med värme\, humor och stor berättarglädje förmedlar de sin djupa kunskap om glasbruken och skildrar både glasets utveckling\, brukens historia och de konstnärer som satt sin prägel på Glasriket. Historiska nyckelhändelser vävs skickligt samman med personliga berättelser och färgstarka anekdoter\, vilket skapar en levande\, lättillgänglig och minnesvärd föreläsning som berör och inspirerar publiken. \nFoto: privat \nKöp biljett
URL:https://www.kulturparkensmaland.se/event/glasriket-tillhor-alla/
LOCATION:Utvandrarnas hus\, Vilhelm Mobergs gata 4\, Växjö\, 35229\, Sverige
ATTACH;FMTTYPE=image/jpeg:https://www.kulturparkensmaland.se/wp-content/uploads/glasriket_FB.jpg
END:VEVENT
END:VCALENDAR