BEGIN:VCALENDAR
VERSION:2.0
PRODID:-//Kulturparken Småland - ECPv6.15.17.1//NONSGML v1.0//EN
CALSCALE:GREGORIAN
METHOD:PUBLISH
X-WR-CALNAME:Kulturparken Småland
X-ORIGINAL-URL:https://www.kulturparkensmaland.se
X-WR-CALDESC:Händelser för Kulturparken Småland
REFRESH-INTERVAL;VALUE=DURATION:PT1H
X-Robots-Tag:noindex
X-PUBLISHED-TTL:PT1H
BEGIN:VTIMEZONE
TZID:Europe/Stockholm
BEGIN:DAYLIGHT
TZOFFSETFROM:+0100
TZOFFSETTO:+0200
TZNAME:CEST
DTSTART:20240331T010000
END:DAYLIGHT
BEGIN:STANDARD
TZOFFSETFROM:+0200
TZOFFSETTO:+0100
TZNAME:CET
DTSTART:20241027T010000
END:STANDARD
BEGIN:DAYLIGHT
TZOFFSETFROM:+0100
TZOFFSETTO:+0200
TZNAME:CEST
DTSTART:20250330T010000
END:DAYLIGHT
BEGIN:STANDARD
TZOFFSETFROM:+0200
TZOFFSETTO:+0100
TZNAME:CET
DTSTART:20251026T010000
END:STANDARD
BEGIN:DAYLIGHT
TZOFFSETFROM:+0100
TZOFFSETTO:+0200
TZNAME:CEST
DTSTART:20260329T010000
END:DAYLIGHT
BEGIN:STANDARD
TZOFFSETFROM:+0200
TZOFFSETTO:+0100
TZNAME:CET
DTSTART:20261025T010000
END:STANDARD
BEGIN:DAYLIGHT
TZOFFSETFROM:+0100
TZOFFSETTO:+0200
TZNAME:CEST
DTSTART:20270328T010000
END:DAYLIGHT
BEGIN:STANDARD
TZOFFSETFROM:+0200
TZOFFSETTO:+0100
TZNAME:CET
DTSTART:20271031T010000
END:STANDARD
END:VTIMEZONE
BEGIN:VEVENT
DTSTART;TZID=Europe/Stockholm:20260401T140000
DTEND;TZID=Europe/Stockholm:20260401T140000
DTSTAMP:20260420T131502
CREATED:20260129T090004Z
LAST-MODIFIED:20260323T141128Z
UID:10000287-1775052000-1775052000@www.kulturparkensmaland.se
SUMMARY:Kaffe och konst x Tavelsamlingen
DESCRIPTION:Denna gång möts vi på Kulturarvscentrum Småland på Norremark för att titta på den unika tavelsamlingen som finns i arkivet. Visningen leds av antikvarie Anders Bengtsson. Efter visningen finns det tid för kaffe och samtal. \nKöp biljett
URL:https://www.kulturparkensmaland.se/event/kaffe-och-konst-tavelsamlingen-pa-kulturarvscentrum/
LOCATION:Kulturarvscentrum Småland\, Sandvägen 15\, Växjö\, 35245\, Sverige
ATTACH;FMTTYPE=image/jpeg:https://www.kulturparkensmaland.se/wp-content/uploads/kafffekonst_tavelsamlingen_FB.jpg
END:VEVENT
BEGIN:VEVENT
DTSTART;TZID=Europe/Stockholm:20260311T180000
DTEND;TZID=Europe/Stockholm:20260311T180000
DTSTAMP:20260420T131502
CREATED:20260129T090027Z
LAST-MODIFIED:20260119T153032Z
UID:10000293-1773252000-1773252000@www.kulturparkensmaland.se
SUMMARY:Tema ”Växjö stad” – kvällsöppet på Kulturarvscentrum
DESCRIPTION:Välkommen till Kulturarvscentrum Småland där vi denna afton plockar fram foton\, filmer och annat material från Växjö stads historia. \nFoto: Hyltén-Cavallius\, Nils. Växjö station ca 1965.
URL:https://www.kulturparkensmaland.se/event/tema-vaxjo-stad-kvallsoppet-pa-kulturarvscentrum/
LOCATION:Kulturarvscentrum Småland\, Sandvägen 15\, Växjö\, 35245\, Sverige
ATTACH;FMTTYPE=image/jpeg:https://www.kulturparkensmaland.se/wp-content/uploads/kvallsoppet_FB_hylten_Cavallius_nils_1965.jpg
END:VEVENT
BEGIN:VEVENT
DTSTART;TZID=Europe/Stockholm:20251108T110000
DTEND;TZID=Europe/Stockholm:20251108T160000
DTSTAMP:20260420T131502
CREATED:20250827T080037Z
LAST-MODIFIED:20251030T084704Z
UID:10000245-1762599600-1762617600@www.kulturparkensmaland.se
SUMMARY:Arkivens dag på Kulturarvscentrum Småland
DESCRIPTION:Kulturarvscentrum Småland håller öppet hus med visningar och aktiviteter hela dagen på temat Natur och friluftsliv.  \nDagens program: \n11:10\nFilmvisning: Bergundafilmen\, som spelades in av Bergunda storkommun 1970 inför kommunsammanläggningen det följande året \n11:15\nVisning av Kulturparken Smålands öppna magasin ”Allt mellan himmel och jord” (begränsat antal platser) \n12:00\nVad gömmer sig i arkiven? Visning av arkivmaterial från Växjö kommunarkiv \n12:30\nVisning av Kulturparken Smålands glasmagasin (begränsat antal platser) \n13:00\nFöredrag: ”Vilhelm Moberg som sportjournalist” med Lennart Johansson\, docent i historia och länsmuseichef \n13:00\nVisning av Kulturparken Smålands öppna magasin ”Allt mellan himmel och jord” (begränsat antal platser) \n13:00-15:00\nBesök konserveringsateljén och se Kulturparken Smålands konservatorer i arbete \n13:30\nVad gömmer sig i arkiven? Visning av arkivmaterial från Växjö kommunarkiv \n14:00\nFöredrag: ”Scouter då och nu” med Bodil Hansen\, Eneryda\, aktiv scout i 61 år \n14:30\nVad gömmer sig i arkiven? Visning av arkivmaterial från Växjö kommunarkiv \n15:00\nFöredrag: ”Dansbanor i länet: om frilufts-danslivet i Kronobergs län förr och nu” med Juliane Peetz- Ullman från Smålands musikarkiv \n15:15\nVisning av Kulturparken Smålands glasmagasin (begränsat antal platser) \nUnder hela dagen kommer Kronobergs genealogiska förening finns på plats och informera om släktforskning. Samt utställningar och information från Arkivförbund Sydost\, Kronobergs Arkeologiska förening\, Kronobergsarkivet\, Kulturparken Småland\, Norra Allbo hembygdsförening\, Region Kronobergs arkiv\, Smålands lincentrum\, Smålands musikarkiv\, Växjö kommunarkiv och Växjö bibliotek.
URL:https://www.kulturparkensmaland.se/event/arkivens-dag-kac/
LOCATION:Kulturarvscentrum Småland\, Sandvägen 15\, Växjö\, 35245\, Sverige
ATTACH;FMTTYPE=image/jpeg:https://www.kulturparkensmaland.se/wp-content/uploads/arkivens_dag-1.jpg
END:VEVENT
BEGIN:VEVENT
DTSTART;TZID=Europe/Stockholm:20251106T133000
DTEND;TZID=Europe/Stockholm:20251106T133000
DTSTAMP:20260420T131502
CREATED:20250827T080026Z
LAST-MODIFIED:20251015T084209Z
UID:10000253-1762435800-1762435800@www.kulturparkensmaland.se
SUMMARY:Kaffe och konst
DESCRIPTION:Dagvisning under ledning av Anders Bengtsson\, antikvarie konst/konsthistoria. Idag är vi på Kulturarvscentrum och tittar närmare på Orreforsarkiven. Var med när vi visar skisser och originalritningar från de småländska glasbruken. Efter visningen finns det tid för kaffe och samtal. \nKaffe och fikabröd ingår i biljettpriset. \nKöp biljett \nFoto: Formgivare: Westerberg\, Uno.
URL:https://www.kulturparkensmaland.se/event/kaffe-och-konst-2/
LOCATION:Kulturarvscentrum Småland\, Sandvägen 15\, Växjö\, 35245\, Sverige
ATTACH;FMTTYPE=image/jpeg:https://www.kulturparkensmaland.se/wp-content/uploads/kaffe_konst_skisser.jpg
END:VEVENT
BEGIN:VEVENT
DTSTART;TZID=Europe/Stockholm:20251008T180000
DTEND;TZID=Europe/Stockholm:20251008T180000
DTSTAMP:20260420T131502
CREATED:20250827T080051Z
LAST-MODIFIED:20250903T074438Z
UID:10000259-1759946400-1759946400@www.kulturparkensmaland.se
SUMMARY:Om Stormen Gudrun
DESCRIPTION:Det är 20 år sedan Stormen Gudrun rasade. Denna kväll visar Kulturarvscentrum vad som finns i arkiv och samlingar från händelsen. Kvällen bjuder på föredrag\, bildvisning\, besök i samlingarna och arkivpresentation. Ett samarbete mellan Kulturparken Småland och Växjö kommunarkiv.
URL:https://www.kulturparkensmaland.se/event/om-stormen-gudrun/
LOCATION:Kulturarvscentrum Småland\, Sandvägen 15\, Växjö\, 35245\, Sverige
ATTACH;FMTTYPE=image/jpeg:https://www.kulturparkensmaland.se/wp-content/uploads/minnen_1920x1080.jpg
END:VEVENT
BEGIN:VEVENT
DTSTART;TZID=Europe/Stockholm:20250917T180000
DTEND;TZID=Europe/Stockholm:20250917T180000
DTSTAMP:20260420T131502
CREATED:20250827T080047Z
LAST-MODIFIED:20250826T092203Z
UID:10000252-1758132000-1758132000@www.kulturparkensmaland.se
SUMMARY:Gubbakväll i samlingarna
DESCRIPTION:Gubbar i alla åldrar och med valfri könsidentitet hälsas välkomna till en kväll på Kulturarvscentrum. Under ledning av antikvarie Björn Karlsson tittar vi närmare på museets samling av motorsågar och antika vapen. Därefter blir det prat\, smörgåstårta och lättöl. \nI priset ingår smörgås och dryck. \nKöp biljett \nFoto: Persson\, Anton.
URL:https://www.kulturparkensmaland.se/event/gubbakvall-i-samlingarna/
LOCATION:Kulturarvscentrum Småland\, Sandvägen 15\, Växjö\, 35245\, Sverige
ATTACH;FMTTYPE=image/jpeg:https://www.kulturparkensmaland.se/wp-content/uploads/gubbakvall_antonpersson.jpg
END:VEVENT
BEGIN:VEVENT
DTSTART;TZID=Europe/Stockholm:20250508T133000
DTEND;TZID=Europe/Stockholm:20250508T143000
DTSTAMP:20260420T131502
CREATED:20250124T093322Z
LAST-MODIFIED:20250424T133158Z
UID:10000121-1746711000-1746714600@www.kulturparkensmaland.se
SUMMARY:Kaffe och konst!
DESCRIPTION:Samling på Kulturarvscentrum Småland\, Norremark i Växjö\, för visning av vackrare vardagsvaror i samlingarna. För guidningen svarar Björn Arfvidsson\, chef samlingsavdelningen\, och Emma Schmidt\, konstvetare. Efter visningen finns det tid för kaffe och samtal. \nKöp biljett
URL:https://www.kulturparkensmaland.se/event/kaffe-och-konst-4/
LOCATION:Kulturarvscentrum Småland\, Sandvägen 15\, Växjö\, 35245\, Sverige
ATTACH;FMTTYPE=image/jpeg:https://www.kulturparkensmaland.se/wp-content/uploads/20250424_135429-scaled.jpg
END:VEVENT
BEGIN:VEVENT
DTSTART;TZID=Europe/Stockholm:20250429T180000
DTEND;TZID=Europe/Stockholm:20250429T190000
DTSTAMP:20260420T131502
CREATED:20250124T093428Z
LAST-MODIFIED:20250124T093540Z
UID:10000120-1745949600-1745953200@www.kulturparkensmaland.se
SUMMARY:Kulturarvscentrum: Öppet magasin
DESCRIPTION:Visning av föremålssamlingen på Kulturarvscentrum Småland. Antikvarie Anders Bengtsson guidar. \nKöp biljett
URL:https://www.kulturparkensmaland.se/event/kulturarvscentrum-oppet-magasin/
LOCATION:Kulturarvscentrum Småland\, Sandvägen 15\, Växjö\, 35245\, Sverige
ATTACH;FMTTYPE=image/jpeg:https://www.kulturparkensmaland.se/wp-content/uploads/o╠eppet_magasin_1920x1080.jpg
END:VEVENT
BEGIN:VEVENT
DTSTART;TZID=Europe/Stockholm:20250305T180000
DTEND;TZID=Europe/Stockholm:20250305T200000
DTSTAMP:20260420T131502
CREATED:20250124T100748Z
LAST-MODIFIED:20250304T135138Z
UID:10000105-1741197600-1741204800@www.kulturparkensmaland.se
SUMMARY:Kvällsöppet på Kulturarvscentrum
DESCRIPTION:Välkommen till Kvällsöppet på Kulturavscentrum Småland. Öppet hus med föreläsning och visningar av öppet magasin\, glasmagasin och arkiv. \nKl 18 föreläser Marie Ulmhed Sjöberg om Elin Wägner och kvinnorna i Bergs kommun utifrån material i Växjö kommunarkiv. \nSmålands museum samlar in minnen från stormen Gudrun och hur den påverkade livet i Kronobergs län. Du kan vara med och berätta om dina minnen! Berättelserna sparas till framtiden i Smålands museums arkiv. Delta i vår  ”minnesworkshop” där museipersonal finns tillgänglig för dig som vill lämna din berättelse från stormen Gudrun. . \nVisningar av magasinen sker löpande under kvällen. Med anledning av pågående Elin Wägner-vecka tittar vi lite extra på Wägner-föremål i magasinet. \nKvällsöppet på Kulturarvscentrum är för dig som vill följa med bakom ”kulisserna” och upptäcka museets storskaliga samlingar och arkiv. \nEtt samarbete mellan Kulturparken Småland\, Växjö kommunarkiv och Elin Wägner-veckan.
URL:https://www.kulturparkensmaland.se/event/kvallsoppet-pa-kulturarvscentrum/
LOCATION:Kulturarvscentrum Småland\, Sandvägen 15\, Växjö\, 35245\, Sverige
ATTACH;FMTTYPE=image/jpeg:https://www.kulturparkensmaland.se/wp-content/uploads/kac_kvallsoppet_1920x1080.jpg
END:VEVENT
END:VCALENDAR