BEGIN:VCALENDAR
VERSION:2.0
PRODID:-//Kulturparken Småland - ECPv6.15.17.1//NONSGML v1.0//EN
CALSCALE:GREGORIAN
METHOD:PUBLISH
X-WR-CALNAME:Kulturparken Småland
X-ORIGINAL-URL:https://www.kulturparkensmaland.se
X-WR-CALDESC:Händelser för Kulturparken Småland
REFRESH-INTERVAL;VALUE=DURATION:PT1H
X-Robots-Tag:noindex
X-PUBLISHED-TTL:PT1H
BEGIN:VTIMEZONE
TZID:Europe/Stockholm
BEGIN:DAYLIGHT
TZOFFSETFROM:+0100
TZOFFSETTO:+0200
TZNAME:CEST
DTSTART:20240331T010000
END:DAYLIGHT
BEGIN:STANDARD
TZOFFSETFROM:+0200
TZOFFSETTO:+0100
TZNAME:CET
DTSTART:20241027T010000
END:STANDARD
BEGIN:DAYLIGHT
TZOFFSETFROM:+0100
TZOFFSETTO:+0200
TZNAME:CEST
DTSTART:20250330T010000
END:DAYLIGHT
BEGIN:STANDARD
TZOFFSETFROM:+0200
TZOFFSETTO:+0100
TZNAME:CET
DTSTART:20251026T010000
END:STANDARD
BEGIN:DAYLIGHT
TZOFFSETFROM:+0100
TZOFFSETTO:+0200
TZNAME:CEST
DTSTART:20260329T010000
END:DAYLIGHT
BEGIN:STANDARD
TZOFFSETFROM:+0200
TZOFFSETTO:+0100
TZNAME:CET
DTSTART:20261025T010000
END:STANDARD
END:VTIMEZONE
BEGIN:VEVENT
DTSTART;TZID=Europe/Stockholm:20250613T100000
DTEND;TZID=Europe/Stockholm:20250613T104500
DTSTAMP:20260420T133636
CREATED:20250513T081913Z
LAST-MODIFIED:20250516T100835Z
UID:10000134-1749808800-1749811500@www.kulturparkensmaland.se
SUMMARY:Livepodd: Från slav till fri man i Lekaryd
DESCRIPTION:”Din podd på jorden” gästar Sagobygdens musik- och berättarfestival i Ljungby. Ta chansen att se och träffa personerna bakom podden fredag 13 juni kl 10.00 på Ljungby museum! \nHistoriker Håkan Nordmark från Smålands museum berättar om John Bull\, som föddes som slav på St Barthélemy men blev en fri man i Kronobergs län. Folkmusikern Jonas Åkerlund bidrar med musikaliska inslag och programledare är Petter Ericsson. \nNär: Fredag 13 juni kl 10.00 \nVar: Ljungby museum \nEntré: 100 kr eller Festivalplats. För biljettbokning: Sagobygdens musik och berättarfestival. \nArrangör: Kulturparken Småland i samarbete med Berättarnätet Kronoberg
URL:https://www.kulturparkensmaland.se/event/livepodd/
LOCATION:Ljungby museum
ATTACH;FMTTYPE=image/jpeg:https://www.kulturparkensmaland.se/wp-content/uploads/livepodd_1920x1080.jpg
END:VEVENT
END:VCALENDAR