BEGIN:VCALENDAR
VERSION:2.0
PRODID:-//Kulturparken Småland - ECPv6.15.17.1//NONSGML v1.0//EN
CALSCALE:GREGORIAN
METHOD:PUBLISH
X-ORIGINAL-URL:https://www.kulturparkensmaland.se
X-WR-CALDESC:Händelser för Kulturparken Småland
REFRESH-INTERVAL;VALUE=DURATION:PT1H
X-Robots-Tag:noindex
X-PUBLISHED-TTL:PT1H
BEGIN:VTIMEZONE
TZID:Europe/Stockholm
BEGIN:DAYLIGHT
TZOFFSETFROM:+0100
TZOFFSETTO:+0200
TZNAME:CEST
DTSTART:20240331T010000
END:DAYLIGHT
BEGIN:STANDARD
TZOFFSETFROM:+0200
TZOFFSETTO:+0100
TZNAME:CET
DTSTART:20241027T010000
END:STANDARD
BEGIN:DAYLIGHT
TZOFFSETFROM:+0100
TZOFFSETTO:+0200
TZNAME:CEST
DTSTART:20250330T010000
END:DAYLIGHT
BEGIN:STANDARD
TZOFFSETFROM:+0200
TZOFFSETTO:+0100
TZNAME:CET
DTSTART:20251026T010000
END:STANDARD
BEGIN:DAYLIGHT
TZOFFSETFROM:+0100
TZOFFSETTO:+0200
TZNAME:CEST
DTSTART:20260329T010000
END:DAYLIGHT
BEGIN:STANDARD
TZOFFSETFROM:+0200
TZOFFSETTO:+0100
TZNAME:CET
DTSTART:20261025T010000
END:STANDARD
END:VTIMEZONE
BEGIN:VEVENT
DTSTART;TZID=Europe/Stockholm:20250904T130000
DTEND;TZID=Europe/Stockholm:20250904T133000
DTSTAMP:20260420T002221
CREATED:20250819T130619Z
LAST-MODIFIED:20250819T135838Z
UID:10000230-1756990800-1756992600@www.kulturparkensmaland.se
SUMMARY:Öppen visning - arkeologisk utgrävning Stallholmen
DESCRIPTION:I slutet av augusti inleds en ny mindre arkeologisk utgrävning vid Kronobergs slottsruin. Under två veckor söker vi spår av livet på Stallholmen – och du är varmt välkommen att följa arbetet på plats och besöka utgrävningen. Under flera dagar erbjuder vi visningar för allmänheten. Se evenemangskalender för samtliga datum och visningstider. \nFoto: Borggården. Kronobergs slottsruin 1938.\nFotograf: Boberg\, Paul. \nÅren 1935 – 1943 gjordes omfattande konserverings- och restaureringsarbeten på Kronobergs slottsruin och i samband med det även arkeologiska undersökningar. Bilden visar ett flertal kvinnor och män som samlats på borggårdens södra del. Troligen för att lyssna till ett föredrag. Foto mot sydöst före restaureringen.
URL:https://www.kulturparkensmaland.se/event/oppen-visning-arkeologisk-utgravning-stallholmen-8/
LOCATION:Stallholmen\, Kronobergs slottsruin
ATTACH;FMTTYPE=image/jpeg:https://www.kulturparkensmaland.se/wp-content/uploads/oppenvisning_stallholmen_banner_1920x1080.jpg
END:VEVENT
BEGIN:VEVENT
DTSTART;TZID=Europe/Stockholm:20250903T130000
DTEND;TZID=Europe/Stockholm:20250903T133000
DTSTAMP:20260420T002221
CREATED:20250819T130506Z
LAST-MODIFIED:20250819T140046Z
UID:10000229-1756904400-1756906200@www.kulturparkensmaland.se
SUMMARY:Öppen visning - arkeologisk utgrävning Stallholmen
DESCRIPTION:I slutet av augusti inleds en ny mindre arkeologisk utgrävning vid Kronobergs slottsruin. Under två veckor söker vi spår av livet på Stallholmen – och du är varmt välkommen att följa arbetet på plats och besöka utgrävningen. Under flera dagar erbjuder vi visningar för allmänheten. Se evenemangskalender för samtliga datum och visningstider. \nFoto: Borggården. Kronobergs slottsruin 1938.\nFotograf: Boberg\, Paul. \nÅren 1935 – 1943 gjordes omfattande konserverings- och restaureringsarbeten på Kronobergs slottsruin och i samband med det även arkeologiska undersökningar. Bilden visar ett flertal kvinnor och män som samlats på borggårdens södra del. Troligen för att lyssna till ett föredrag. Foto mot sydöst före restaureringen.
URL:https://www.kulturparkensmaland.se/event/oppen-visning-arkeologisk-utgravning-stallholmen-7/
LOCATION:Stallholmen\, Kronobergs slottsruin
ATTACH;FMTTYPE=image/jpeg:https://www.kulturparkensmaland.se/wp-content/uploads/oppenvisning_stallholmen_banner_1920x1080.jpg
END:VEVENT
BEGIN:VEVENT
DTSTART;TZID=Europe/Stockholm:20250902T130000
DTEND;TZID=Europe/Stockholm:20250902T133000
DTSTAMP:20260420T002221
CREATED:20250819T130406Z
LAST-MODIFIED:20250819T140148Z
UID:10000228-1756818000-1756819800@www.kulturparkensmaland.se
SUMMARY:Öppen visning - arkeologisk utgrävning Stallholmen
DESCRIPTION:I slutet av augusti inleds en ny mindre arkeologisk utgrävning vid Kronobergs slottsruin. Under två veckor söker vi spår av livet på Stallholmen – och du är varmt välkommen att följa arbetet på plats och besöka utgrävningen. Under flera dagar erbjuder vi visningar för allmänheten. Se evenemangskalender för samtliga datum och visningstider. \nFoto: Borggården. Kronobergs slottsruin 1938.\nFotograf: Boberg\, Paul. \nÅren 1935 – 1943 gjordes omfattande konserverings- och restaureringsarbeten på Kronobergs slottsruin och i samband med det även arkeologiska undersökningar. Bilden visar ett flertal kvinnor och män som samlats på borggårdens södra del. Troligen för att lyssna till ett föredrag. Foto mot sydöst före restaureringen.
URL:https://www.kulturparkensmaland.se/event/oppen-visning-arkeologisk-utgravning-stallholmen-6/
LOCATION:Stallholmen\, Kronobergs slottsruin
ATTACH;FMTTYPE=image/jpeg:https://www.kulturparkensmaland.se/wp-content/uploads/oppenvisning_stallholmen_banner_1920x1080.jpg
END:VEVENT
BEGIN:VEVENT
DTSTART;TZID=Europe/Stockholm:20250901T130000
DTEND;TZID=Europe/Stockholm:20250901T133000
DTSTAMP:20260420T002221
CREATED:20250819T130304Z
LAST-MODIFIED:20250819T140241Z
UID:10000227-1756731600-1756733400@www.kulturparkensmaland.se
SUMMARY:Öppen visning - arkeologisk utgrävning Stallholmen
DESCRIPTION:I slutet av augusti inleds en ny mindre arkeologisk utgrävning vid Kronobergs slottsruin. Under två veckor söker vi spår av livet på Stallholmen – och du är varmt välkommen att följa arbetet på plats och besöka utgrävningen. Under flera dagar erbjuder vi visningar för allmänheten. Se evenemangskalender för samtliga datum och visningstider. \nFoto: Borggården. Kronobergs slottsruin 1938.\nFotograf: Boberg\, Paul. \nÅren 1935 – 1943 gjordes omfattande konserverings- och restaureringsarbeten på Kronobergs slottsruin och i samband med det även arkeologiska undersökningar. Bilden visar ett flertal kvinnor och män som samlats på borggårdens södra del. Troligen för att lyssna till ett föredrag. Foto mot sydöst före restaureringen.
URL:https://www.kulturparkensmaland.se/event/oppen-visning-arkeologisk-utgravning-stallholmen-5/
LOCATION:Stallholmen\, Kronobergs slottsruin
ATTACH;FMTTYPE=image/jpeg:https://www.kulturparkensmaland.se/wp-content/uploads/oppenvisning_stallholmen_banner_1920x1080.jpg
END:VEVENT
BEGIN:VEVENT
DTSTART;TZID=Europe/Stockholm:20250831T140000
DTEND;TZID=Europe/Stockholm:20250831T160000
DTSTAMP:20260420T002221
CREATED:20250819T094613Z
LAST-MODIFIED:20250820T103641Z
UID:10000222-1756648800-1756656000@www.kulturparkensmaland.se
SUMMARY:Arkeologidagen
DESCRIPTION:I slutet av augusti inleds en ny mindre arkeologisk utgrävning vid Kronobergs slottsruin. Välkommen att besöka utgrävningen! Under flera dagar erbjuder vi visningar för allmänheten – och på Arkeologidagen den 31 augusti blir det extra mycket att uppleva för barn och familj. Visningar för allmänheten hålls kl 14.00 och kl 15.00. \n  \n 
URL:https://www.kulturparkensmaland.se/event/arkeologidagen-stallholmen-kronobergs-slottsruin/
LOCATION:Stallholmen\, Kronobergs slottsruin
ATTACH;FMTTYPE=image/jpeg:https://www.kulturparkensmaland.se/wp-content/uploads/kronoberg1_1920x1080.jpg
END:VEVENT
BEGIN:VEVENT
DTSTART;TZID=Europe/Stockholm:20250830T110000
DTEND;TZID=Europe/Stockholm:20250830T114500
DTSTAMP:20260420T002221
CREATED:20250819T125714Z
LAST-MODIFIED:20250819T140343Z
UID:10000226-1756551600-1756554300@www.kulturparkensmaland.se
SUMMARY:Öppen visning - arkeologisk utgrävning Stallholmen
DESCRIPTION:I slutet av augusti inleds en ny mindre arkeologisk utgrävning vid Kronobergs slottsruin. Under två veckor söker vi spår av livet på Stallholmen – och du är varmt välkommen att följa arbetet på plats och besöka utgrävningen. Under flera dagar erbjuder vi visningar för allmänheten. Se evenemangskalender för samtliga datum och visningstider. \nFoto: Borggården. Kronobergs slottsruin 1938.\nFotograf: Boberg\, Paul. \nÅren 1935 – 1943 gjordes omfattande konserverings- och restaureringsarbeten på Kronobergs slottsruin och i samband med det även arkeologiska undersökningar. Bilden visar ett flertal kvinnor och män som samlats på borggårdens södra del. Troligen för att lyssna till ett föredrag. Foto mot sydöst före restaureringen.
URL:https://www.kulturparkensmaland.se/event/oppen-visning-arkeologisk-utgravning-stallholmen-4/
LOCATION:Stallholmen\, Kronobergs slottsruin
ATTACH;FMTTYPE=image/jpeg:https://www.kulturparkensmaland.se/wp-content/uploads/oppenvisning_stallholmen_banner_1920x1080.jpg
END:VEVENT
BEGIN:VEVENT
DTSTART;TZID=Europe/Stockholm:20250829T130000
DTEND;TZID=Europe/Stockholm:20250829T133000
DTSTAMP:20260420T002221
CREATED:20250819T125403Z
LAST-MODIFIED:20250819T140708Z
UID:10000225-1756472400-1756474200@www.kulturparkensmaland.se
SUMMARY:Öppen visning - arkeologisk utgrävning Stallholmen
DESCRIPTION:I slutet av augusti inleds en ny mindre arkeologisk utgrävning vid Kronobergs slottsruin. Under två veckor söker vi spår av livet på Stallholmen – och du är varmt välkommen att följa arbetet på plats och besöka utgrävningen. Under flera dagar erbjuder vi visningar för allmänheten. Se evenemangskalender för samtliga datum och visningstider. \nFoto: Borggården. Kronobergs slottsruin 1938.\nFotograf: Boberg\, Paul. \nÅren 1935 – 1943 gjordes omfattande konserverings- och restaureringsarbeten på Kronobergs slottsruin och i samband med det även arkeologiska undersökningar. Bilden visar ett flertal kvinnor och män som samlats på borggårdens södra del. Troligen för att lyssna till ett föredrag. Foto mot sydöst före restaureringen.
URL:https://www.kulturparkensmaland.se/event/oppen-visning-arkeologisk-utgravning-stallholmen-3/
LOCATION:Stallholmen\, Kronobergs slottsruin
ATTACH;FMTTYPE=image/jpeg:https://www.kulturparkensmaland.se/wp-content/uploads/oppenvisning_stallholmen_banner_1920x1080.jpg
END:VEVENT
BEGIN:VEVENT
DTSTART;TZID=Europe/Stockholm:20250828T130000
DTEND;TZID=Europe/Stockholm:20250828T133000
DTSTAMP:20260420T002221
CREATED:20250819T125300Z
LAST-MODIFIED:20250819T140436Z
UID:10000224-1756386000-1756387800@www.kulturparkensmaland.se
SUMMARY:Öppen visning - arkeologisk utgrävning Stallholmen
DESCRIPTION:I slutet av augusti inleds en ny mindre arkeologisk utgrävning vid Kronobergs slottsruin. Under två veckor söker vi spår av livet på Stallholmen – och du är varmt välkommen att följa arbetet på plats och besöka utgrävningen. Under flera dagar erbjuder vi visningar för allmänheten. Se evenemangskalender för samtliga datum och visningstider. \nFoto: Borggården. Kronobergs slottsruin 1938.\nFotograf: Boberg\, Paul. \nÅren 1935 – 1943 gjordes omfattande konserverings- och restaureringsarbeten på Kronobergs slottsruin och i samband med det även arkeologiska undersökningar. Bilden visar ett flertal kvinnor och män som samlats på borggårdens södra del. Troligen för att lyssna till ett föredrag. Foto mot sydöst före restaureringen.
URL:https://www.kulturparkensmaland.se/event/oppen-visning-arkeologisk-utgravning-stallholmen-2/
LOCATION:Stallholmen\, Kronobergs slottsruin
ATTACH;FMTTYPE=image/jpeg:https://www.kulturparkensmaland.se/wp-content/uploads/oppenvisning_stallholmen_banner_1920x1080.jpg
END:VEVENT
BEGIN:VEVENT
DTSTART;TZID=Europe/Stockholm:20250827T130000
DTEND;TZID=Europe/Stockholm:20250827T133000
DTSTAMP:20260420T002221
CREATED:20250819T125112Z
LAST-MODIFIED:20250819T140538Z
UID:10000223-1756299600-1756301400@www.kulturparkensmaland.se
SUMMARY:Öppen visning - arkeologisk utgrävning Stallholmen
DESCRIPTION:I slutet av augusti inleds en ny mindre arkeologisk utgrävning vid Kronobergs slottsruin. Under två veckor söker vi spår av livet på Stallholmen – och du är varmt välkommen att följa arbetet på plats och besöka utgrävningen. Under flera dagar erbjuder vi visningar för allmänheten. Se evenemangskalender för samtliga datum och visningstider. \nFoto: Borggården. Kronobergs slottsruin 1938.\nFotograf: Boberg\, Paul. \nÅren 1935 – 1943 gjordes omfattande konserverings- och restaureringsarbeten på Kronobergs slottsruin och i samband med det även arkeologiska undersökningar. Bilden visar ett flertal kvinnor och män som samlats på borggårdens södra del. Troligen för att lyssna till ett föredrag. Foto mot sydöst före restaureringen.
URL:https://www.kulturparkensmaland.se/event/oppen-visning-arkeologisk-utgravning-stallholmen/
LOCATION:Stallholmen\, Kronobergs slottsruin
ATTACH;FMTTYPE=image/jpeg:https://www.kulturparkensmaland.se/wp-content/uploads/oppenvisning_stallholmen_banner_1920x1080.jpg
END:VEVENT
END:VCALENDAR