BEGIN:VCALENDAR
VERSION:2.0
PRODID:-//Kulturparken Småland - ECPv6.15.17.1//NONSGML v1.0//EN
CALSCALE:GREGORIAN
METHOD:PUBLISH
X-WR-CALNAME:Kulturparken Småland
X-ORIGINAL-URL:https://www.kulturparkensmaland.se
X-WR-CALDESC:Händelser för Kulturparken Småland
REFRESH-INTERVAL;VALUE=DURATION:PT1H
X-Robots-Tag:noindex
X-PUBLISHED-TTL:PT1H
BEGIN:VTIMEZONE
TZID:Europe/Stockholm
BEGIN:DAYLIGHT
TZOFFSETFROM:+0100
TZOFFSETTO:+0200
TZNAME:CEST
DTSTART:20240331T010000
END:DAYLIGHT
BEGIN:STANDARD
TZOFFSETFROM:+0200
TZOFFSETTO:+0100
TZNAME:CET
DTSTART:20241027T010000
END:STANDARD
BEGIN:DAYLIGHT
TZOFFSETFROM:+0100
TZOFFSETTO:+0200
TZNAME:CEST
DTSTART:20250330T010000
END:DAYLIGHT
BEGIN:STANDARD
TZOFFSETFROM:+0200
TZOFFSETTO:+0100
TZNAME:CET
DTSTART:20251026T010000
END:STANDARD
BEGIN:DAYLIGHT
TZOFFSETFROM:+0100
TZOFFSETTO:+0200
TZNAME:CEST
DTSTART:20260329T010000
END:DAYLIGHT
BEGIN:STANDARD
TZOFFSETFROM:+0200
TZOFFSETTO:+0100
TZNAME:CET
DTSTART:20261025T010000
END:STANDARD
END:VTIMEZONE
BEGIN:VEVENT
DTSTART;TZID=Europe/Stockholm:20251004T140000
DTEND;TZID=Europe/Stockholm:20251004T150000
DTSTAMP:20260419T225653
CREATED:20250827T080043Z
LAST-MODIFIED:20251004T080836Z
UID:10000233-1759586400-1759590000@www.kulturparkensmaland.se
SUMMARY:Från gård till gata / INSTÄLLT
DESCRIPTION:INSTÄLLT P.G.A VÄDRET! En kulturhistorisk vandring genom Tingsryds byggnadshistoria. Välkomna på en timmes promenad med Smålands museums byggnadsantikvarier. Evenemanget är en del av Byggnadsvårdsåret 2025. \nSamling framför Tingsås kyrka. Fri entré\, ingen föranmälan. \nLäs mer om firandet av Europeiska Byggnadsvårdsåret 50 år. \nFoto: Lilljeqvist\, Olle.
URL:https://www.kulturparkensmaland.se/event/fran-gard-till-gata/
LOCATION:Tingsås kyrka\, Kyrkogatan 1\, Tingsryd
ATTACH;FMTTYPE=image/jpeg:https://www.kulturparkensmaland.se/wp-content/uploads/Vandring_Tingsryd-scaled.jpg
END:VEVENT
END:VCALENDAR